BEGIN:VCALENDAR
VERSION:2.0
PRODID:-//ChamberMaster//Event Calendar 2.0//EN
METHOD:PUBLISH
X-PUBLISHED-TTL:P3D
REFRESH-INTERVAL:P3D
CALSCALE:GREGORIAN
BEGIN:VEVENT
DTSTART:20171121T230000Z
DTEND:20171122T010000Z
X-MICROSOFT-CDO-ALLDAYEVENT:FALSE
SUMMARY:Dinner & CPE - North Penn IMA
DESCRIPTION:Changes to Reporting for Non-Profits\n\n1 Hr CPE - Accounting & Auditing\n\n\n\nCindy Bergvall \n\nBee\, Bergvall\, & Co.
X-ALT-DESC;FMTTYPE=text/html:<div><strong><span style="font-family:arial\,sans-serif"><span style="font-size:14pt">Changes to Reporting for Non-Profits</span></span></strong><br />\n<strong><span style="font-family:arial\,sans-serif"><span style="font-size:14pt">1 Hr CPE - Accounting &amp\; Auditing</span></span></strong><br />\n<br />\n<strong><span style="font-family:arial\,sans-serif"><span style="font-size:14pt">Cindy Bergvall&nbsp\;</span></span></strong><br />\n<font face="arial\, sans-serif"><span style="font-size:18.6667px"><strong>Bee\, Bergvall\, &amp\; Co.</strong></span></font></div>\n
LOCATION:William Penn Inn The restaurant is on the corner of DeKalb Pike (Route 202) and Sumneytown Pike in Upper in Gwynedd (1017 DeKalb Pike\, Ambler\, PA 19002 for GPS users). The banquet entrance is in the rear of the building\, and there is ample complimentary parking.
UID:e.2385.2656
SEQUENCE:3
DTSTAMP:20260421T122733Z
URL:https://business.chambergmc.org/events/details/dinner-cpe-north-penn-ima-11-21-2017-2656
END:VEVENT

END:VCALENDAR
