BEGIN:VCALENDAR
VERSION:2.0
PRODID:-//ChamberMaster//Event Calendar 2.0//EN
METHOD:PUBLISH
X-PUBLISHED-TTL:P3D
REFRESH-INTERVAL:P3D
CALSCALE:GREGORIAN
BEGIN:VEVENT
DTSTART:20190511T120000Z
DTEND:20190512T000000Z
X-MICROSOFT-CDO-ALLDAYEVENT:FALSE
SUMMARY:DIY NYC Trip!
DESCRIPTION:Enjoy the day amidst the hustle and bustle of New York City! Take a stroll through Central Park or wander through one of the many historical sites. Spend your time shopping\, dining\, or taking in a show...it's up to you! The bus will drop off and pick up will be in the area of Rockefeller Square. Cost is $56.00 for WM Res and $64.00 for Non-Res - Pre-Registration is required. Register online at www.whitemarshparks.org or over the phone at 610-828-7276.
X-ALT-DESC;FMTTYPE=text/html:Enjoy the day amidst the hustle and bustle of New York City! Take a stroll through Central Park or wander through one of the many historical sites. Spend your time shopping\, dining\, or taking in a show...it&rsquo\;s up to you! The bus will drop off and pick up will be in the area of Rockefeller Square. Cost is $56.00 for WM Res and $64.00 for Non-Res - Pre-Registration is required. Register online at www.whitemarshparks.org or over the phone at 610-828-7276.
LOCATION:Whitemarsh Elementary School Parking Lot
UID:e.2385.8164
SEQUENCE:3
DTSTAMP:20260422T111604Z
URL:https://business.chambergmc.org/events/details/diy-nyc-trip-8164
END:VEVENT

END:VCALENDAR
