BEGIN:VCALENDAR
VERSION:2.0
PRODID:-//ChamberMaster//Event Calendar 2.0//EN
METHOD:PUBLISH
X-PUBLISHED-TTL:P3D
REFRESH-INTERVAL:P3D
CALSCALE:GREGORIAN
BEGIN:VEVENT
DTSTART:20181012T171500Z
DTEND:20181012T191500Z
X-MICROSOFT-CDO-ALLDAYEVENT:FALSE
SUMMARY:Dr. Tammy Portolese Presents Essentail Oils 101
DESCRIPTION:For those of you who are curious about essential oils\, or may have just started out using them on your own and want to learn more\, this class is for you!\n\n\n\nWe will learn how essential oils work\, how they are made\, how to find quality oils\, review the uses for several common oils\, and their role in supporting your health and wellness.\n\n\n\nThe class will last about an hour\, leaving plenty of time for your questions to be answered!\n\nPortolese Family Chiropractic is your neighborhood expert in Young Living Essential Oils and passionate about helping our community support their families' wellness and health with a more natural approach.
X-ALT-DESC;FMTTYPE=text/html:<p><span style="color:rgb(71\, 70\, 70)\; font-family:lato\,helvetica neue\,helvetica\,arial\,sans-serif\; font-size:14px">For those of you who are curious about essential oils\, or may have just started out using them on your own and want to learn more\, this class is for you!</span><br />\n<br />\n<span style="color:rgb(71\, 70\, 70)\; font-family:lato\,helvetica neue\,helvetica\,arial\,sans-serif\; font-size:14px">We will learn how essential oils work\, how they are made\, how to find quality oils\, review the uses for several common oils\, and their role in supporting your health and wellness.</span><br />\n<br />\n<span style="color:rgb(71\, 70\, 70)\; font-family:lato\,helvetica neue\,helvetica\,arial\,sans-serif\; font-size:14px">The class will last about an hour\, leaving plenty of time for your questions to be answered!</span></p>\n\n<p><strong><em><span style="font-size:14px"><span style="font-family:lato\,helvetica neue\,helvetica\,arial\,sans-serif">Portolese Family Chiropractic is your neighborhood expert in&nbsp\;</span></span></em><em><span style="font-size:14px"><span style="font-family:lato\,helvetica neue\,helvetica\,arial\,sans-serif"><a href="https://chirogal.us18.list-manage.com/track/click?u=a555ef3c9683e89d6c526eaef&amp\;id=bed8050524&amp\;e=2f6b07394b" style="color: rgb(32\, 32\, 32)\; font-weight: normal\;">Young Living Essential Oils</a>&nbsp\;and passionate about helping our community&nbsp\;</span></span><span style="font-size:14px">support their families&#39\;&nbsp\;wellness and health with a more natural approach.</span></em></strong></p>\n
LOCATION:Portolese Family Chiropractic 490 Pennbrook Parkway Lansdale\, PA 19446
UID:e.2385.8057
SEQUENCE:3
DTSTAMP:20260422T014806Z
URL:https://business.chambergmc.org/events/details/dr-tammy-portolese-presents-essentail-oils-101-10-12-2018-8057
END:VEVENT

END:VCALENDAR
