BEGIN:VCALENDAR
VERSION:2.0
PRODID:-//ChamberMaster//Event Calendar 2.0//EN
METHOD:PUBLISH
X-PUBLISHED-TTL:P3D
REFRESH-INTERVAL:P3D
CALSCALE:GREGORIAN
BEGIN:VEVENT
DTSTART:20190914T210000Z
DTEND:20190915T000000Z
X-MICROSOFT-CDO-ALLDAYEVENT:FALSE
SUMMARY:Dress To Impress In Black Party
DESCRIPTION:Join us on Sept 14th For our El Sarape Black Party Dress to Impress! Free Tastings\, Ice Sculpture\, DJ.
X-ALT-DESC;FMTTYPE=text/html:<span style="color:rgb(29\, 33\, 41)\; font-family:helvetica\,arial\,sans-serif\; font-size:14px">Join us on Sept 14th For our El Sarape Black Party&nbsp\;</span><span style="color:rgb(29\, 33\, 41)\; font-family:helvetica\,arial\,sans-serif\; font-size:14px">Dress to Impress!&nbsp\;</span><span style="color:rgb(29\, 33\, 41)\; font-family:helvetica\,arial\,sans-serif\; font-size:14px">Free Tastings\, Ice Sculpture\, DJ.</span>
LOCATION:El Sarape Mexican Restaurant 970 Dekalb Pike Blue Bell\, PA 19422
UID:e.2385.10053
SEQUENCE:3
DTSTAMP:20260423T182654Z
URL:https://business.chambergmc.org/events/details/dress-to-impress-in-black-party-10053
END:VEVENT

END:VCALENDAR
