BEGIN:VCALENDAR
VERSION:2.0
PRODID:-//ChamberMaster//Event Calendar 2.0//EN
METHOD:PUBLISH
X-PUBLISHED-TTL:P3D
REFRESH-INTERVAL:P3D
CALSCALE:GREGORIAN
BEGIN:VEVENT
DTSTART:20180331T170000Z
DTEND:20180331T190000Z
X-MICROSOFT-CDO-ALLDAYEVENT:FALSE
SUMMARY:Easter Egg Hunt
DESCRIPTION:Come join St. Mary Villa community and families for our Easter Egg Hunt. All ages are welcome to come take pictures with the Easter Bunny as well as enjoy assorted refreshments. Free door prizes will be available! Hope to see you there!
X-ALT-DESC;FMTTYPE=text/html:Come join St. Mary Villa community and families for our Easter Egg Hunt. All ages are welcome to come take pictures with the Easter Bunny as well as enjoy assorted refreshments. Free door prizes will be available! Hope to see you there!
LOCATION:701 Lansdale Ave Lansdale PA 19446
UID:e.2385.3264
SEQUENCE:3
DTSTAMP:20260421T162025Z
URL:https://business.chambergmc.org/events/details/easter-egg-hunt-03-31-2018-3264
END:VEVENT

END:VCALENDAR
