BEGIN:VCALENDAR
VERSION:2.0
PRODID:-//ChamberMaster//Event Calendar 2.0//EN
METHOD:PUBLISH
X-PUBLISHED-TTL:P3D
REFRESH-INTERVAL:P3D
CALSCALE:GREGORIAN
BEGIN:VEVENT
DTSTART:20180428T140000Z
DTEND:20180428T180000Z
X-MICROSOFT-CDO-ALLDAYEVENT:FALSE
SUMMARY:Elm Terrace Gardens Health & Wellness Fair
DESCRIPTION:2018 Health & Wellness Fundraiser event on Saturday\, April 28\, 2018 from 10am   2pm at Elm Terrace Gardens Life Plan Community. This is a free event open to the public designed to encourage healthy lifestyles\, provide information to prevent and manage disease\, connect the public to resources for a meet and greet\, and interactive activities. Together we can help encourage and education people about Health & Wellness from the inside out. *Looking for vendors to particpate. Contact Traci Connelly- 215-361-5606 or traci.connelly@etg-ccrc.org
X-ALT-DESC;FMTTYPE=text/html:2018 Health &amp\; Wellness Fundraiser event on Saturday\, April 28\, 2018 from 10am &ndash\; 2pm at Elm Terrace Gardens Life Plan Community. This is a free event open to the public designed to encourage healthy lifestyles\, provide information to prevent and manage disease\, connect the public to resources for a meet and greet\, and interactive activities. Together we can help encourage and education people about Health &amp\; Wellness from the inside out. *Looking for vendors to particpate. Contact Traci Connelly- 215-361-5606 or traci.connelly@etg-ccrc.org
LOCATION:Elm Terrace Gardens 660 North Broad St. Lansdale\, PA 19446
UID:e.2385.2997
SEQUENCE:3
DTSTAMP:20260421T175126Z
URL:https://business.chambergmc.org/events/details/elm-terrace-gardens-health-wellness-fair-04-28-2018-2997
END:VEVENT

END:VCALENDAR
