BEGIN:VCALENDAR
VERSION:2.0
PRODID:-//ChamberMaster//Event Calendar 2.0//EN
METHOD:PUBLISH
X-PUBLISHED-TTL:P3D
REFRESH-INTERVAL:P3D
CALSCALE:GREGORIAN
BEGIN:VEVENT
DTSTART:20180505T203000Z
DTEND:20180512T010000Z
X-MICROSOFT-CDO-ALLDAYEVENT:FALSE
SUMMARY:Enlightening Discourses\, Yoga and Meditation
DESCRIPTION:Enlightening Discourses\, Yoga and Meditation by H.H. Swami Mukundananda. 7-Day Series Topic: 7 Divine Laws for Happiness and Fulfillment Register now for free -- Get your FREE tickets\, reminders\, and important information regarding this event. https://philadelphia-swamiji-free-program.eventbrite.com Get inspired and enrich your lives by listening and imbibing divine knowledge\, Learn Yoga & Pranayam\, Elevate your soul with blissful meditation\, Melodious kirtans and Special aarti. Swamiji is a world-renowned teacher of Spirituality\, Yoga\, and Meditation. His enlightening discourses clarify the deepest concepts of the Vedic scriptures with wit\, humor\, and perfect logic. Swamiji\, a senior disciple of Jagadguru Shree Kripaluji Maharaj\, and alumnus of IIT and IIM\, is the founder of the unique yogic system called JKYog. SCHEDULE May 5th and May 6th (Sat-Sun): 4:30 pm to 5:45 pm (Yoga/Meditation) 5:45 pm to 7:30 pm (Discourse) May 7th to May 10th (Mon -Thurs): 6 pm to 7:15 pm (Yoga/Meditation) 7:15 pm tp 9 pm (Discourse) May 11th (Fri): 7 pm to 9 pm (Discourse) NOTE: Dinner will be served daily after program. If you would like to bring a dish or sponsor prasad\, please contact Rohini Ramakrishnan at 484-620-4345 or email rohiprag@gmail.com For more info visit: www.jkyog.org/events Contact: 484-620-4345\, 610-275-7472 EMAIL:rohiprag@gmail.com
X-ALT-DESC;FMTTYPE=text/html:Enlightening Discourses\, Yoga and Meditation by H.H. Swami Mukundananda. 7-Day Series Topic: 7 Divine Laws for Happiness and Fulfillment Register now for free -- Get your FREE tickets\, reminders\, and important information regarding this event. https://philadelphia-swamiji-free-program.eventbrite.com Get inspired and enrich your lives by listening and imbibing divine knowledge\, Learn Yoga &amp\; Pranayam\, Elevate your soul with blissful meditation\, Melodious kirtans and Special aarti. Swamiji is a world-renowned teacher of Spirituality\, Yoga\, and Meditation. His enlightening discourses clarify the deepest concepts of the Vedic scriptures with wit\, humor\, and perfect logic. Swamiji\, a senior disciple of Jagadguru Shree Kripaluji Maharaj\, and alumnus of IIT and IIM\, is the founder of the unique yogic system called JKYog. SCHEDULE May 5th and May 6th (Sat-Sun): 4:30 pm to 5:45 pm (Yoga/Meditation) 5:45 pm to 7:30 pm (Discourse) May 7th to May 10th (Mon -Thurs): 6 pm to 7:15 pm (Yoga/Meditation) 7:15 pm tp 9 pm (Discourse) May 11th (Fri): 7 pm to 9 pm (Discourse) NOTE: Dinner will be served daily after program. If you would like to bring a dish or sponsor prasad\, please contact Rohini Ramakrishnan at 484-620-4345 or email rohiprag@gmail.com For more info visit: www.jkyog.org/events Contact: 484-620-4345\, 610-275-7472 EMAIL:rohiprag@gmail.com
LOCATION:Bharatiya Cultural Center 1612 County Line Road\, Chalfont\, PA 18914
UID:e.2385.5314
SEQUENCE:3
DTSTAMP:20260421T190821Z
URL:https://business.chambergmc.org/events/details/enlightening-discourses-yoga-and-meditation-05-05-2018-5314
END:VEVENT

END:VCALENDAR
