BEGIN:VCALENDAR
VERSION:2.0
PRODID:-//ChamberMaster//Event Calendar 2.0//EN
METHOD:PUBLISH
X-PUBLISHED-TTL:P3D
REFRESH-INTERVAL:P3D
CALSCALE:GREGORIAN
BEGIN:VEVENT
DTSTART:20181010T123000Z
DTEND:20181010T160000Z
X-MICROSOFT-CDO-ALLDAYEVENT:FALSE
SUMMARY:Entrepreneurship 101: Your Blueprint For Success
DESCRIPTION:Join For Pete's Sake Cancer Respite Foundation on 10.10.18 in Philadelphia for a morning of networking\, breakfast and insight from Philly's innovative entrepreneurs.\n\nOur keynote speaker\, Wayne Kimmel\, SeventySix Capital will kick-off the morning by sharing his keys to success and the importance of networking and giving back to the community. The morning will conclude with a panel discussion and networking.
X-ALT-DESC;FMTTYPE=text/html:<p><span style="color:black\; font-family:arial\,sans-serif\; font-size:10.5pt">Join For Pete&#39\;s Sake Cancer Respite Foundation on <strong><span style="font-family:arial\,sans-serif">10.10.18 in Philadelphia&nbsp\;</span></strong>for a morning of networking\, breakfast and insight from Philly&rsquo\;s innovative entrepreneurs.</span></p>\n\n<p><span style="color:black\; font-family:arial\,sans-serif\; font-size:10.5pt">Our keynote speaker\,<strong><span style="font-family:arial\,sans-serif"> Wayne Kimmel\, SeventySix Capital</span></strong> will kick-off the morning by sharing his keys to success and the importance of networking and giving back to the community. The morning will conclude with a panel discussion and networking.</span></p>\n
LOCATION:Logan Square Conference Center 1 Logan Square\, 26th Floor Philadelphia\, PA 19103
UID:e.2385.8032
SEQUENCE:3
DTSTAMP:20260422T014611Z
URL:https://business.chambergmc.org/events/details/entrepreneurship-101-your-blueprint-for-success-8032
END:VEVENT

END:VCALENDAR
