BEGIN:VCALENDAR
VERSION:2.0
PRODID:-//ChamberMaster//Event Calendar 2.0//EN
METHOD:PUBLISH
X-PUBLISHED-TTL:P3D
REFRESH-INTERVAL:P3D
CALSCALE:GREGORIAN
BEGIN:VEVENT
DTSTART:20180217T230000Z
DTEND:20180218T000000Z
X-MICROSOFT-CDO-ALLDAYEVENT:FALSE
SUMMARY:Escape Room
DESCRIPTION:Escape room created for Beatles Fans. The Magical Mystery Room\, created by Act1 productions will be here at the winery for some great team building fun!
X-ALT-DESC;FMTTYPE=text/html:Escape room created for Beatles Fans. The Magical Mystery Room\, created by Act1 productions will be here at the winery for some great team building fun!
LOCATION:Cardinal Hollow Winery 1830 West Point West Point\, PA 19486
UID:e.2385.3054
SEQUENCE:3
DTSTAMP:20260421T150048Z
URL:https://business.chambergmc.org/events/details/escape-room-02-17-2018-3054
END:VEVENT

END:VCALENDAR
