BEGIN:VCALENDAR
VERSION:2.0
PRODID:-//ChamberMaster//Event Calendar 2.0//EN
METHOD:PUBLISH
X-PUBLISHED-TTL:P3D
REFRESH-INTERVAL:P3D
CALSCALE:GREGORIAN
BEGIN:VEVENT
DTSTART:20180420T230000Z
DTEND:20180421T010000Z
X-MICROSOFT-CDO-ALLDAYEVENT:FALSE
SUMMARY:Escape Room
DESCRIPTION:Join us for a fun filled team building escape room event\, created by Joshua Wahl of Act1Productions This event is for the die hard Beatles fans! Your Mother Should Know that you can do this even if you are a Fool on the Hill!!
X-ALT-DESC;FMTTYPE=text/html:Join us for a fun filled team building escape room event\, created by Joshua Wahl of Act1Productions This event is for the die hard Beatles fans! Your Mother Should Know that you can do this even if you are a Fool on the Hill!!
LOCATION:Cardinal Hollow Winery 1830 West Point Pike Lansdale \, PA 19446
UID:e.2385.5316
SEQUENCE:3
DTSTAMP:20260421T174507Z
URL:https://business.chambergmc.org/events/details/escape-room-04-20-2018-5316
END:VEVENT

END:VCALENDAR
