BEGIN:VCALENDAR
VERSION:2.0
PRODID:-//ChamberMaster//Event Calendar 2.0//EN
METHOD:PUBLISH
X-PUBLISHED-TTL:P3D
REFRESH-INTERVAL:P3D
CALSCALE:GREGORIAN
BEGIN:VEVENT
DTSTART:20191021T120000Z
DTEND:20191021T140000Z
X-MICROSOFT-CDO-ALLDAYEVENT:FALSE
SUMMARY:Estate Planning Seminar: 10 Stories from the Front Line
DESCRIPTION:Estate planning attorneys Lisa Shearman and Adam Fernandez will lead an\n\ninteractive conversation on the central issues of estate planning.\n\n\n\nMONDAY\, OCTOBER 21\, 2019\n\n8:00 AM   10:00 AM\n\nCOLLEGE HALL 144/148/151\n\nCONTINENTAL BREAKFAST WILL BE SERVED\n\n\n\nRSVP by October 18 to Traci Connelly\n\n215-641-6529 or Tconnelly1@mc3.edu.\n\n\n\nPlease submit questions for the speakers\n\nwhen you RSVP.
X-ALT-DESC;FMTTYPE=text/html:Estate planning attorneys Lisa Shearman and Adam Fernandez will lead an<br />\ninteractive conversation on the central&nbsp\;issues of estate planning.<br />\n<br />\nMONDAY\, OCTOBER 21\, 2019<br />\n8:00 AM &ndash\; 10:00 AM<br />\nCOLLEGE HALL 144/148/151<br />\nCONTINENTAL BREAKFAST WILL BE SERVED<br />\n<br />\nRSVP by October 18 to Traci Connelly<br />\n215-641-6529 or Tconnelly1@mc3.edu.<br />\n<br />\nPlease submit questions for the speakers<br />\nwhen you RSVP.
LOCATION:Montgomery County Community College 340 DeKalb Pike COLLEGE HALL 144/148/151 Blue Bell\, PA 19422
UID:e.2385.10152
SEQUENCE:3
DTSTAMP:20260423T170344Z
URL:https://business.chambergmc.org/events/details/estate-planning-seminar-10-stories-from-the-front-line-10152
END:VEVENT

END:VCALENDAR
