BEGIN:VCALENDAR
VERSION:2.0
PRODID:-//ChamberMaster//Event Calendar 2.0//EN
METHOD:PUBLISH
X-PUBLISHED-TTL:P3D
REFRESH-INTERVAL:P3D
CALSCALE:GREGORIAN
BEGIN:VEVENT
DTSTART:20180927T201500Z
DTEND:20180927T223000Z
X-MICROSOFT-CDO-ALLDAYEVENT:FALSE
SUMMARY:Estate Planning Seminar
DESCRIPTION:Enjoy two excellent local speakers this evening among colleagues. Robert F Costello\, Jr.\, President of Costello Asset Management and Rosemary Ferrino\, Esquire\, Founder and General Partner of Montco Elder Law\, bring you an excellent presentation concerning estate planning. Whether you are thinking about yourself\, loved ones or just in need of some general knowledge\, Mr. Costello and Ms. Ferrino are happy to explain the intricacies and answer all of your questions about estate planning.
X-ALT-DESC;FMTTYPE=text/html:Enjoy two excellent local speakers this evening among colleagues. Robert F Costello\, Jr.\, President of Costello Asset Management and Rosemary Ferrino\, Esquire\, Founder and General Partner of Montco Elder Law\, bring you an excellent presentation concerning estate planning. Whether you are thinking about yourself\, loved ones or just in need of some general knowledge\, Mr. Costello and Ms. Ferrino are happy to explain the intricacies and answer all of your questions about estate planning.
LOCATION:Philmont Country Club\, 301 Tomlinson Road\, Huntingdon Valley\, PA 19006
UID:e.2385.8016
SEQUENCE:3
DTSTAMP:20260422T002830Z
URL:https://business.chambergmc.org/events/details/estate-planning-seminar-8016
END:VEVENT

END:VCALENDAR
