BEGIN:VCALENDAR
VERSION:2.0
PRODID:-//ChamberMaster//Event Calendar 2.0//EN
METHOD:PUBLISH
X-PUBLISHED-TTL:P3D
REFRESH-INTERVAL:P3D
CALSCALE:GREGORIAN
BEGIN:VEVENT
DTSTART:20171114T130000Z
DTEND:20171114T153000Z
X-MICROSOFT-CDO-ALLDAYEVENT:FALSE
SUMMARY:Ethics Breakfast - 2 Hours CPE
DESCRIPTION:Two topics - Two speakers\n\n(returning by popular demand)\n\n2 Hrs CPE - Ethics\n\nMichael L. Brozzetti\, CIA\, CISA\, CGEIT - Boundless LLC\n\n - The Professional Accountant's Role in Ethics\, Governance\, & Culture\n\nKaren Jett\, CMA - RedKnight\n\n - Questioning Ethics:  A Legitimate Bribe?\n\nFull Deluxe Buffet Breakfast
X-ALT-DESC;FMTTYPE=text/html:<div>Two topics - Two speakers</div>\n\n<div>(returning by popular demand)</div>\n\n<div><strong>2 Hrs CPE - Ethics</strong><br />\n<span style="color:rgb(102\, 102\, 102)\; font-family:arial\,verdana\,sans-serif\; font-size:large">Michael L. Brozzetti\, CIA\, CISA\, CGEIT - Boundless LLC<br />\n&nbsp\;-&nbsp\;</span><strong>The Professional Accountant&rsquo\;s Role in Ethics\, Governance\, &amp\; Culture</strong><br />\n<span style="color:rgb(68\, 68\, 68)\; font-family:arial\,sans-serif\; font-size:large">Karen Jett\, CMA - RedKnight<br />\n&nbsp\;-&nbsp\;</span><strong>Questioning Ethics:&nbsp\; A Legitimate Bribe?</strong><br />\n<em><strong>Full Deluxe Buffet Breakfast</strong></em><br />\n<br />\n&nbsp\;</div>\n
LOCATION:Gwynedd Mercy University 1325 Sumneytown Pike Gwynedd Valley\, PA 19437
UID:e.2385.2645
SEQUENCE:3
DTSTAMP:20260421T111017Z
URL:https://business.chambergmc.org/events/details/ethics-breakfast-2-hours-cpe-11-14-2017-2645
END:VEVENT

END:VCALENDAR
