BEGIN:VCALENDAR
VERSION:2.0
PRODID:-//ChamberMaster//Event Calendar 2.0//EN
METHOD:PUBLISH
X-PUBLISHED-TTL:P3D
REFRESH-INTERVAL:P3D
CALSCALE:GREGORIAN
BEGIN:VEVENT
DTSTART:20201001T213000Z
DTEND:20201002T010000Z
X-MICROSOFT-CDO-ALLDAYEVENT:FALSE
SUMMARY:Every Thursday- Live Music Latin Jazz Night
DESCRIPTION:Latin Jazz Night
X-ALT-DESC;FMTTYPE=text/html:<font color="#1d2129" face="helvetica\, arial\, sans-serif"><span style="caret-color:rgb(29\, 33\, 41)\; font-size:12px">Latin Jazz Night&nbsp\;</span></font>
LOCATION:
UID:e.2385.10694
SEQUENCE:3
DTSTAMP:20260423T014230Z
URL:https://business.chambergmc.org/events/details/every-thursday-live-music-latin-jazz-night-10-01-2020-10694
END:VEVENT

END:VCALENDAR
