BEGIN:VCALENDAR
VERSION:2.0
PRODID:-//ChamberMaster//Event Calendar 2.0//EN
METHOD:PUBLISH
X-PUBLISHED-TTL:P3D
REFRESH-INTERVAL:P3D
CALSCALE:GREGORIAN
BEGIN:VEVENT
DTSTART:20180121T170000Z
DTEND:20180121T190000Z
X-MICROSOFT-CDO-ALLDAYEVENT:FALSE
SUMMARY:Fabulous Shoe Reception benefiting the Women's Center of Montgomery County
DESCRIPTION:The Fabulous Shoe Event is an afternoon gathering that provides an unexpected\, philanthropic twist. Joining women together to wear whatever shoes make them feel fabulous\, right from our own closets\, (high heel or high end need not apply   the "fabulous" is in YOU!) each of our events raise money and awareness for local charities\, large and small. Not a Mommy's group\, not a networking group\, Fabulous Shoe Event is all-inclusive\, proving that when women gather together\, we can make a true difference to those in need in our communities.\n\n\nThe Fabulous Shoe Event is coordinated by a group women with a wicked sense of fashion and a defined social purpose. Their event proceeds go to local charities. Enjoy your shoes\, enjoy your friends\, and enjoy a girl's afternoon out on the town\, all while doing some good for your community.  Admissions include light refreshments and appetizers.  Raffle prizes\, music and the opportunity to hear from domestic violence survivors.\nYour $30 ticket ( + $3.72 processing fee) includes delicious lite bites and a built-in donation to the Women's Center. 100% of ticket proceeds (minus our costs)\, as well as 100% of BOTH raffle and sponsorship proceeds will be donated to the Women's Center. \n\nSponsorship opportunities are available to highlight your business\, and 100% of your sponsorship is donated directly to the Women's Center.
X-ALT-DESC;FMTTYPE=text/html:<span style="font-family:arial\,helvetica\,sans-serif">T<span style="font-size:12px">he Fabulous Shoe Event is an afternoon gathering that provides an unexpected\, philanthropic twist. Joining women together to wear whatever shoes make them feel fabulous\, right from our own closets\, (high heel or high end need not apply &hellip\; the &ldquo\;fabulous&rdquo\; is in YOU!) each of our events raise money and awareness for local charities\, large and small. Not a Mommy&rsquo\;s group\, not a networking group\, Fabulous Shoe Event is all-inclusive\, proving that when women gather&nbsp\;together\, we can make a true difference to those in need in our communities.</span></span>\n<div><br />\n<span style="font-size:12px"><span style="font-family:arial\,helvetica\,sans-serif"><span style="color:rgb(75\, 79\, 86)">The Fabulous Shoe Event is</span><span style="color:rgb(75\, 79\, 86)">&nbsp\;coordinated by a group women with a wicked sense of fashion and a defined social purpose. Their event proceeds go to local charities. Enjoy your shoes\, enjoy your friends\, and enjoy a girl&#39\;s afternoon out on the town\, all while doing some good for your community.&nbsp\; Admissions include light refreshments and appetizers.&nbsp\; Raffle prizes\, music and the opportunity to hear from domestic violence survivors.</span></span></span>\n<p><span style="font-size:12px"><span style="font-family:arial\,helvetica\,sans-serif">Your $30 ticket ( + $3.72 processing fee) includes delicious lite bites and a built-in donation to the Women&#39\;s Center. 100% of ticket proceeds (minus our costs)\, as well as 100% of BOTH raffle and sponsorship proceeds will be donated to the Women&#39\;s Center.&nbsp\;</span></span></p>\n\n<p><span style="font-size:12px"><span style="font-family:arial\,helvetica\,sans-serif">Sponsorship opportunities are available to highlight your business\, and 100% of your sponsorship is donated directly to the Women&#39\;s Center.&nbsp\;</span></span></p>\n</div>\n&nbsp\;\n\n<p>&nbsp\;</p>\n
LOCATION:Seasons 52 in King of Prussia\, PA
UID:e.2385.2994
SEQUENCE:3
DTSTAMP:20260421T134137Z
URL:https://business.chambergmc.org/events/details/fabulous-shoe-reception-benefiting-the-women-s-center-of-montgomery-county-01-21-2018-2994
END:VEVENT

END:VCALENDAR
