BEGIN:VCALENDAR
VERSION:2.0
PRODID:-//ChamberMaster//Event Calendar 2.0//EN
METHOD:PUBLISH
X-PUBLISHED-TTL:P3D
REFRESH-INTERVAL:P3D
CALSCALE:GREGORIAN
BEGIN:VEVENT
DTSTART:20170914T140000Z
DTEND:20170914T150000Z
X-MICROSOFT-CDO-ALLDAYEVENT:FALSE
SUMMARY:Fall Container Workshop I
DESCRIPTION:Join us for this fun workshop where we'll teach you how to create your own fall container.  You can add mums\, asters\, peppers\, and grasses for a colorful seasonal display.  Bring your friends for more fun.  Call us for pricing details.  Please RSVP: http://floralandhardyofskippack.com/events/178/fall-container-workshop-i/
X-ALT-DESC;FMTTYPE=text/html:Join us for this fun workshop where we&rsquo\;ll teach you how to create your own fall container. &nbsp\;You can add mums\, asters\, peppers\, and grasses for a colorful seasonal display. &nbsp\;Bring your friends for more fun. &nbsp\;Call us for pricing details.&nbsp\; Please RSVP:&nbsp\;<a href="http://floralandhardyofskippack.com/events/178/fall-container-workshop-i/">http://floralandhardyofskippack.com/events/178/fall-container-workshop-i/</a>
LOCATION:Floral & Hardy of Skippack 4007 Skippack Pike Skippack\, PA 19474
UID:e.2385.2598
SEQUENCE:3
DTSTAMP:20260421T082353Z
URL:https://business.chambergmc.org/events/details/fall-container-workshop-i-09-14-2017-2598
END:VEVENT

END:VCALENDAR
