BEGIN:VCALENDAR
VERSION:2.0
PRODID:-//ChamberMaster//Event Calendar 2.0//EN
METHOD:PUBLISH
X-PUBLISHED-TTL:P3D
REFRESH-INTERVAL:P3D
CALSCALE:GREGORIAN
BEGIN:VEVENT
DTSTART:20190430T133000Z
DTEND:20190430T190000Z
X-MICROSOFT-CDO-ALLDAYEVENT:FALSE
SUMMARY:Family Caregiver Conference
DESCRIPTION:This free Family Caregiver Conference is designed for non-professional family caregivers who are supporting someone with Alzheimer's or another form of dementia. Attendees will hear a local caregiver's story\, and learn about legal issues\, activities of daily living and managing caregiver stress. Check-In\, Coffee & Connect with Community Resources begins at 9:30 AM and a boxed lunch will be provided at 12:15 pm. For more information or to register\, visit tinyurl.com/ALZConferences or call 800.272.3900. Pre-registration is required\, but day-of walk-in registration will be accepted.
X-ALT-DESC;FMTTYPE=text/html:This free Family Caregiver Conference is designed for non-professional family caregivers who are supporting someone with Alzheimer&#39\;s or another form of dementia. Attendees will hear a local caregiver&#39\;s story\, and learn about legal issues\, activities of daily living and managing caregiver stress. Check-In\, Coffee &amp\; Connect with Community Resources begins at 9:30 AM and a boxed lunch will be provided at 12:15 pm. For more information or to register\, visit tinyurl.com/ALZConferences or call 800.272.3900. Pre-registration is required\, but day-of walk-in registration will be accepted.
LOCATION:College Hall\, Montgomery County Community College\, Rm 144/148/151\, 340 DeKalb Pike\, BLUE BELL\, PA 19422
UID:e.2385.8700
SEQUENCE:3
DTSTAMP:20260422T094700Z
URL:https://business.chambergmc.org/events/details/family-caregiver-conference-8700
END:VEVENT

END:VCALENDAR
