BEGIN:VCALENDAR
VERSION:2.0
PRODID:-//ChamberMaster//Event Calendar 2.0//EN
METHOD:PUBLISH
X-PUBLISHED-TTL:P3D
REFRESH-INTERVAL:P3D
CALSCALE:GREGORIAN
BEGIN:VEVENT
DTSTART;VALUE=DATE:20200621
DTEND;VALUE=DATE:20200622
TRANSP:TRANSPARENT
X-MICROSOFT-CDO-ALLDAYEVENT:TRUE
SUMMARY:Father's Day Celebration at El Sarape
DESCRIPTION:Celebrate Dad this Father's Day with Delicious Authentic Mexican Cuisine.\n\n \n\nOutdoor Dining will be open. First come basis. We are not taking reservations. \n\n \n\nWe are Open\n\nSunday \, June 21st\n\n12 PM - 8:30 PM \n\n \n\nTake-Out Purchase only of $75 or more receive a $15.00 gift card \n\nwhile supplies last! \n\n \n\nTake-out or delivery is available with Grubhub\, Uber eats and Doordash.
X-ALT-DESC;FMTTYPE=text/html:<div style="text-align:center"><strong>Celebrate Dad this Father&#39\;s Day with Delicious Authentic Mexican Cuisine.</strong></div>\n\n<div style="text-align:center">&nbsp\;</div>\n\n<div style="text-align:center"><strong>Outdoor Dining will be open. First come basis. We are not taking reservations.&nbsp\;</strong></div>\n\n<div style="text-align:center">&nbsp\;</div>\n\n<div style="text-align:center"><strong>We are Open</strong></div>\n\n<div style="text-align:center"><strong>Sunday \, June 21st</strong></div>\n\n<div style="text-align:center"><strong>12 PM - 8:30 PM&nbsp\;</strong></div>\n\n<div style="text-align:center">&nbsp\;</div>\n\n<div style="text-align:center"><strong>Take-Out Purchase only of $75 or more receive a $15.00 gift card&nbsp\;</strong></div>\n\n<div style="text-align:center"><strong>while supplies last!&nbsp\;</strong></div>\n\n<div style="text-align:center">&nbsp\;</div>\n\n<div style="text-align:center"><strong>Take-out or delivery is available with Grubhub\, Uber eats and Doordash.</strong></div>\n
LOCATION:El SARAPE 970 DEKALB PIKE BLUE BELL\, PA 19422
UID:e.2385.10407
SEQUENCE:3
DTSTAMP:20260423T071636Z
URL:https://business.chambergmc.org/events/details/father-s-day-celebration-at-el-sarape-10407
END:VEVENT

END:VCALENDAR
