BEGIN:VCALENDAR
VERSION:2.0
PRODID:-//ChamberMaster//Event Calendar 2.0//EN
METHOD:PUBLISH
X-PUBLISHED-TTL:P3D
REFRESH-INTERVAL:P3D
CALSCALE:GREGORIAN
BEGIN:VEVENT
DTSTART:20190615T140000Z
DTEND:20190615T150000Z
X-MICROSOFT-CDO-ALLDAYEVENT:FALSE
SUMMARY:Floral & Hardy Father's Day Gift Making Workshop
DESCRIPTION:Make a personalized gift for Dad! Bring the kids to Floral & Hardy for this fun gift making activity.  We'll help them paint a terra cotta pot and plant colorful annuals inside.  Great surprise for Dad on Father's Day! Cost is $15 plus tax.\n\n\n\nPlease RSVP: https://floralandhardyofskippack.com/events/father-s-day-gift-making-workshop/
X-ALT-DESC;FMTTYPE=text/html:<div style="text-align:justify"><span style="background-color:transparent\; color:rgb(0\, 0\, 0)\; font-family:arial\,helvetica\,sans-serif\; font-size:13px">Make a personalized gift for Dad!&nbsp\;Bring the kids to Floral &amp\; Hardy for this fun gift making activity.&nbsp\; We&rsquo\;ll help them paint a terra cotta pot and plant colorful annuals inside.&nbsp\; Great surprise for Dad on Father&rsquo\;s Day! C</span><span style="background-color:transparent\; color:rgb(0\, 0\, 0)\; font-family:arial\,helvetica\,sans-serif\; font-size:13px">ost is $15 plus tax.<br />\n<br />\nPlease RSVP:&nbsp\;<a href="https://floralandhardyofskippack.com/events/father-s-day-gift-making-workshop/">https://floralandhardyofskippack.com/events/father-s-day-gift-making-workshop/</a></span></div>\n
LOCATION:Floral & Hardy 4007 Skippack Pike Skippack\, PA 19474
UID:e.2385.8746
SEQUENCE:3
DTSTAMP:20260422T140756Z
URL:https://business.chambergmc.org/events/details/father-s-day-gift-making-workshop-8746
END:VEVENT

END:VCALENDAR
