BEGIN:VCALENDAR
VERSION:2.0
PRODID:-//ChamberMaster//Event Calendar 2.0//EN
METHOD:PUBLISH
X-PUBLISHED-TTL:P3D
REFRESH-INTERVAL:P3D
CALSCALE:GREGORIAN
BEGIN:VEVENT
DTSTART:20180501T153000Z
DTEND:20180501T170000Z
X-MICROSOFT-CDO-ALLDAYEVENT:FALSE
SUMMARY:Finding and Retaining Talent For Your Business
DESCRIPTION:As a business owner\, your employees are one of your most valuable resources. Join us for a featured presentation by Peggy Eddens and a panel discussion with industry veterans about finding and retaining talent for your company or organization. Peggy\, Carrie\, and Kate will provide valuable insights on finding the best people to fit into your workplace.
X-ALT-DESC;FMTTYPE=text/html:As a business owner\, your employees are one of your most valuable resources. Join us for a featured presentation by Peggy Eddens and a panel discussion with industry veterans about finding and retaining talent for your company or organization. Peggy\, Carrie\, and Kate will provide valuable insights on finding the best people to fit into your workplace.
LOCATION:Fogo de Chao Brazilian Steakhouse Town Center King of Prussia 155 Main Street King of Prussia
UID:e.2385.6648
SEQUENCE:3
DTSTAMP:20260421T202043Z
URL:https://business.chambergmc.org/events/details/finding-and-retaining-talent-for-your-business-05-01-2018-6648
END:VEVENT

END:VCALENDAR
