BEGIN:VCALENDAR
VERSION:2.0
PRODID:-//ChamberMaster//Event Calendar 2.0//EN
METHOD:PUBLISH
X-PUBLISHED-TTL:P3D
REFRESH-INTERVAL:P3D
CALSCALE:GREGORIAN
BEGIN:VEVENT
DTSTART:20180320T200000Z
DTEND:20180320T220000Z
X-MICROSOFT-CDO-ALLDAYEVENT:FALSE
SUMMARY:First Day of Spring Happy Hour
DESCRIPTION:St. Mary's Villa community invites all to join their Open House\, Happy Hour to kick off the first day of Spring! Bring friends to come visit and enjoy refreshments !
X-ALT-DESC;FMTTYPE=text/html:St. Mary&#39\;s Villa community invites all to join their Open House\, Happy Hour to kick off the first day of Spring! Bring friends to come visit and enjoy refreshments !
LOCATION:701 Lansdale Ave Lansdale\, PA 19446
UID:e.2385.3265
SEQUENCE:3
DTSTAMP:20260421T162926Z
URL:https://business.chambergmc.org/events/details/first-day-of-spring-happy-hour-03-20-2018-3265
END:VEVENT

END:VCALENDAR
