BEGIN:VCALENDAR
VERSION:2.0
PRODID:-//ChamberMaster//Event Calendar 2.0//EN
METHOD:PUBLISH
X-PUBLISHED-TTL:P3D
REFRESH-INTERVAL:P3D
CALSCALE:GREGORIAN
BEGIN:VEVENT
DTSTART:20190906T220000Z
DTEND:20190907T010000Z
X-MICROSOFT-CDO-ALLDAYEVENT:FALSE
SUMMARY:First Friday Event
DESCRIPTION:Join us on Friday\, Sept 6th from 6pm-9pm for our First Friday event on our patio.
X-ALT-DESC;FMTTYPE=text/html:<span style="color:rgb(29\, 33\, 41)\; font-family:helvetica\,arial\,sans-serif\; font-size:14px">Join us on Friday\, Sept 6th</span><span style="color:rgb(29\, 33\, 41)\; font-family:helvetica\,arial\,sans-serif\; font-size:14px">&nbsp\;from 6pm-9pm for our </span><span style="color:rgb(29\, 33\, 41)\; font-family:helvetica\,arial\,sans-serif\; font-size:14px">First Friday event on our patio.</span>
LOCATION:El Sarape Mexican Restaurant 970 Dekalb Pike Blue Bell\, PA 19422
UID:e.2385.10050
SEQUENCE:3
DTSTAMP:20260423T182245Z
URL:https://business.chambergmc.org/events/details/first-friday-event-09-06-2019-10050
END:VEVENT

END:VCALENDAR
