BEGIN:VCALENDAR
VERSION:2.0
PRODID:-//ChamberMaster//Event Calendar 2.0//EN
METHOD:PUBLISH
X-PUBLISHED-TTL:P3D
REFRESH-INTERVAL:P3D
CALSCALE:GREGORIAN
BEGIN:VEVENT
DTSTART:20191004T220000Z
DTEND:20191005T010000Z
X-MICROSOFT-CDO-ALLDAYEVENT:FALSE
SUMMARY:First Friday Event
DESCRIPTION:Join us on Friday Oct 4th from 6pm-9pm for our\n\nFirst Friday event on our patio with a DJ
X-ALT-DESC;FMTTYPE=text/html:<span style="color:rgb(29\, 33\, 41)\; font-family:helvetica\,arial\,sans-serif\; font-size:14px">Join us on Friday Oct 4th from 6pm-9pm for our</span><br />\n<span style="color:rgb(29\, 33\, 41)\; font-family:helvetica\,arial\,sans-serif\; font-size:14px">First Friday event on our patio with a DJ</span>
LOCATION:El Sarape Restaurant 970 Dekalb Pike\, Blue Bell
UID:e.2385.10114
SEQUENCE:3
DTSTAMP:20260423T165613Z
URL:https://business.chambergmc.org/events/details/first-friday-event-10-04-2019-10114
END:VEVENT

END:VCALENDAR
