BEGIN:VCALENDAR
VERSION:2.0
PRODID:-//ChamberMaster//Event Calendar 2.0//EN
METHOD:PUBLISH
X-PUBLISHED-TTL:P3D
REFRESH-INTERVAL:P3D
CALSCALE:GREGORIAN
BEGIN:VEVENT
DTSTART:20190316T220000Z
DTEND:20190317T010000Z
X-MICROSOFT-CDO-ALLDAYEVENT:FALSE
SUMMARY:Fish Fry
DESCRIPTION:Annual Fish Fry on March 16th! \n\nFun with family and friends! Home made fried fish\, chicken\, potato salad\, mac & cheese\, grits\, greens\, green beans\, hush puppies and corn bread.  Maybe even some peach cobbler and ice cream!\n\nDine in or Take Out\n\nBYOB!\n\n24 hour advance notice for take out orders. 267-263-2616\n\nwww.snbevents.com/events
X-ALT-DESC;FMTTYPE=text/html:Annual Fish Fry on March 16th!&nbsp\;<br />\nFun with family and friends! Home made fried fish\, chicken\, potato salad\, mac &amp\; cheese\, grits\, greens\, green beans\, hush puppies and corn bread.&nbsp\; Maybe even some peach cobbler and ice cream!<br />\nDine in or Take Out<br />\nBYOB!<br />\n24 hour advance notice for take out orders. 267-263-2616<br />\nwww.snbevents.com/events
LOCATION:25 Bridge Street Collegeville\, PA 19426
UID:e.2385.8197
SEQUENCE:3
DTSTAMP:20260422T082422Z
URL:https://business.chambergmc.org/events/details/fish-fry-8197
END:VEVENT

END:VCALENDAR
