BEGIN:VCALENDAR
VERSION:2.0
PRODID:-//ChamberMaster//Event Calendar 2.0//EN
METHOD:PUBLISH
X-PUBLISHED-TTL:P3D
REFRESH-INTERVAL:P3D
CALSCALE:GREGORIAN
BEGIN:VEVENT
DTSTART:20180331T180000Z
DTEND:20180331T200000Z
X-MICROSOFT-CDO-ALLDAYEVENT:FALSE
SUMMARY:Floral & Hardy Adult Easter Egg Hunt
DESCRIPTION:Join Floral & Hardy for our FIRST EVER Adult Easter Egg Hunt.  Enjoy a glass of wine from Cardinal Hollow Winery while hunting for eggs in our yard.  Find the special eggs with tickets to redeem prizes!  Cardinal Hollow Winery will offer wine tastings and have bottles of wine for sale.  Bring your friends for a festive afternoon   kids aren't the only ones who can have fun at Easter!\n\nCost is $15 per person and includes a glass of wine.  Must be at least 21 to participate.  ID is required.  Registration begins and 2:00 p.m. and the hunt starts promptly at 2:30 p.m.\n\nNote: RESERVATIONS ARE REQUIRED! Please RSVP: http://floralandhardyofskippack.com/events/228/adult-easter-egg-hunt/
X-ALT-DESC;FMTTYPE=text/html:<p style="margin-left:0px\; margin-right:0px\; text-align:justify">Join Floral &amp\; Hardy for our FIRST EVER Adult Easter Egg Hunt.&nbsp\; Enjoy a glass of wine from Cardinal Hollow Winery while hunting for eggs in our yard.&nbsp\; Find the special eggs with tickets to redeem prizes!&nbsp\; Cardinal Hollow Winery will offer wine tastings and have bottles of wine for sale.&nbsp\; Bring your friends for a festive afternoon &ndash\; kids aren&rsquo\;t the only ones who can have fun at Easter!</p>\n\n<p style="margin-left:0px\; margin-right:0px\; text-align:justify">Cost is $15 per person and includes a glass of wine.&nbsp\; <strong>Must be at least 21 to participate.&nbsp\; ID is required.&nbsp\; </strong>Registration begins and 2:00 p.m. and the hunt starts promptly at 2:30 p.m.</p>\n\n<p style="margin-left:0px\; margin-right:0px"><span style="color:rgb(255\, 0\, 0)"><strong>Note: RESERVATIONS ARE REQUIRED!</strong> Please RSVP:&nbsp\;<a href="http://floralandhardyofskippack.com/events/228/adult-easter-egg-hunt/">http://floralandhardyofskippack.com/events/228/adult-easter-egg-hunt/</a></span></p>\n
LOCATION:Floral & Hardy 4007 Skippack Pike Skippack\, PA 19474
UID:e.2385.3055
SEQUENCE:3
DTSTAMP:20260421T163214Z
URL:https://business.chambergmc.org/events/details/floral-hardy-adult-easter-egg-hunt-03-31-2018-3055
END:VEVENT

END:VCALENDAR
