BEGIN:VCALENDAR
VERSION:2.0
PRODID:-//ChamberMaster//Event Calendar 2.0//EN
METHOD:PUBLISH
X-PUBLISHED-TTL:P3D
REFRESH-INTERVAL:P3D
CALSCALE:GREGORIAN
BEGIN:VEVENT
DTSTART:20190420T173000Z
DTEND:20190420T200000Z
X-MICROSOFT-CDO-ALLDAYEVENT:FALSE
SUMMARY:Floral & Hardy Adult Easter Egg Hunt
DESCRIPTION:Join us for our Second Annual Adult Easter Egg Hunt!  Bring your friends for a festive afternoon and enjoy the party!!  Floral & Hardy of Skippack will be co-hosting this event with Justin's Carriage House Restaurant\, next door. We'll be giving away OVER $1\,000 worth of prizes\, including SIX GRAND PRIZES!! Find the special eggs with prize tickets in Justin's yard.  Listen to live entertainment from the Cat House Band throughout the event! \n\n\n\nPRE-RESGISTRATION IS REQUIRED.  Click here for details and to sign up: https://floralandhardyofskippack.com/events/adult-easter-egg-hunt/
X-ALT-DESC;FMTTYPE=text/html:<span style="background-color:transparent\; color:rgb(0\, 0\, 0)\; font-family:arial\,helvetica\,sans-serif\; font-size:13px">Join us for our <strong>Second Annual Adult Easter Egg Hunt</strong>!&nbsp\; Bring your friends for a festive afternoon and enjoy the party!!&nbsp\; Floral &amp\; Hardy of Skippack will be co-hosting this event with Justin&rsquo\;s Carriage House Restaurant\, next door. We&rsquo\;ll be giving away OVER $1\,000 worth of prizes\, including SIX GRAND PRIZES!! Find the special eggs with prize tickets in Justin&rsquo\;s yard.&nbsp\; Listen to live entertainment from the Cat House Band throughout the event!&nbsp\;<br />\n<br />\nPRE-RESGISTRATION IS REQUIRED.&nbsp\; Click here for details and to sign up:&nbsp\;<a href="https://floralandhardyofskippack.com/events/adult-easter-egg-hunt/">https://floralandhardyofskippack.com/events/adult-easter-egg-hunt/</a></span>
LOCATION:Floral & Hardy 4007 Skippack Pike Skippack\, PA 19474
UID:e.2385.8677
SEQUENCE:3
DTSTAMP:20260422T094725Z
URL:https://business.chambergmc.org/events/details/floral-hardy-adult-easter-egg-hunt-8677
END:VEVENT

END:VCALENDAR
