BEGIN:VCALENDAR
VERSION:2.0
PRODID:-//ChamberMaster//Event Calendar 2.0//EN
METHOD:PUBLISH
X-PUBLISHED-TTL:P3D
REFRESH-INTERVAL:P3D
CALSCALE:GREGORIAN
BEGIN:VEVENT
DTSTART:20190223T150000Z
DTEND:20190223T160000Z
X-MICROSOFT-CDO-ALLDAYEVENT:FALSE
SUMMARY:Floral & Hardy Adult Seed Starting Workshop
DESCRIPTION:Learn how to successfully start seeds!  We'll teach you how to grow your first batch of seeds for the spring.  Choose up to three packs of seeds for the class   herbs\, veggies or flowers.  Please bring a box to class to take your seedlings home.  Cost is $10 (includes three packs of seeds and seed starting materials).\n\n  \nPlease RSVP: https://floralandhardyofskippack.com/events/adult-seed-starting-workshop/
X-ALT-DESC;FMTTYPE=text/html:<div style="text-align: justify\;"><span style="background-color:transparent\; color:rgb(0\, 0\, 0)\; font-family:arial\,helvetica\,sans-serif\; font-size:13px">Learn how to successfully start seeds!&nbsp\; We&rsquo\;ll teach you how to grow your first batch of seeds for the spring.&nbsp\; Choose up to three packs of seeds for the class &ndash\; herbs\, veggies or flowers. &nbsp\;Please bring a box to class to take your seedlings home.&nbsp\; Cost is $10 (includes three packs of seeds and seed starting materials).<br />\n&nbsp\; </span></div>\n<span style="background-color:transparent\; color:rgb(0\, 0\, 0)\; font-family:arial\,helvetica\,sans-serif\; font-size:13px">Please RSVP:&nbsp\;<a href="https://floralandhardyofskippack.com/events/adult-seed-starting-workshop/">https://floralandhardyofskippack.com/events/adult-seed-starting-workshop/</a></span>
LOCATION:Floral & Hardy 4007 Skippack Pike Skippack\, PA 19474
UID:e.2385.8174
SEQUENCE:3
DTSTAMP:20260422T082959Z
URL:https://business.chambergmc.org/events/details/floral-hardy-adult-seed-starting-workshop-8174
END:VEVENT

END:VCALENDAR
