BEGIN:VCALENDAR
VERSION:2.0
PRODID:-//ChamberMaster//Event Calendar 2.0//EN
METHOD:PUBLISH
X-PUBLISHED-TTL:P3D
REFRESH-INTERVAL:P3D
CALSCALE:GREGORIAN
BEGIN:VEVENT
DTSTART:20180224T190000Z
DTEND:20180224T200000Z
X-MICROSOFT-CDO-ALLDAYEVENT:FALSE
SUMMARY:Floral & Hardy Adult Seed Starting Workshop II
DESCRIPTION:Learn how to successfully start seeds.  We'll work with you as you start your first batch of seeds for the spring.  Come in and pick up two packs of seeds for the class.  Please bring a box to class to take your seedlings home.  Cost is $10   includes two packs of seeds and seed starting materials. \n\n\n\nPlease RSVP: http://floralandhardyofskippack.com/events/213/adult-seed-starting-workshop-ii/
X-ALT-DESC;FMTTYPE=text/html:<span style="background-color:transparent\; color:rgb(0\, 0\, 0)\; font-family:lora\,times new roman\,times\,serif\; font-size:13px">Learn how to successfully start seeds.&nbsp\; We&rsquo\;ll work with you as you start your first batch of seeds for the spring. &nbsp\;Come in and pick up two packs of seeds for the class. &nbsp\;Please bring a box to class to take your seedlings home.&nbsp\; Cost is $10 &ndash\; includes two packs of seeds and seed starting materials.&nbsp\;<br />\n<br />\nPlease RSVP:&nbsp\;<a href="http://floralandhardyofskippack.com/events/213/adult-seed-starting-workshop-ii/">http://floralandhardyofskippack.com/events/213/adult-seed-starting-workshop-ii/</a></span>
LOCATION:Floral & Hardy 4007 Skippack Pike Skippack\, PA 19474F
UID:e.2385.3031
SEQUENCE:3
DTSTAMP:20260421T162522Z
URL:https://business.chambergmc.org/events/details/floral-hardy-adult-seed-starting-workshop-ii-02-24-2018-3031
END:VEVENT

END:VCALENDAR
