BEGIN:VCALENDAR
VERSION:2.0
PRODID:-//ChamberMaster//Event Calendar 2.0//EN
METHOD:PUBLISH
X-PUBLISHED-TTL:P3D
REFRESH-INTERVAL:P3D
CALSCALE:GREGORIAN
BEGIN:VEVENT
DTSTART:20190926T220000Z
DTEND:20190926T230000Z
X-MICROSOFT-CDO-ALLDAYEVENT:FALSE
SUMMARY:Floral & Hardy Air Plant Wreath Workshop II
DESCRIPTION:Join us for this NEW WORKSHOP! Design your own living wreath with cool looking Air Plants!!  We'll help you create a beautiful living arrangement using a 12-inch grapevine wreath\, moss\, and a variety of colorful Air Plants (tillandsias).  Unique indoor decoration for every season and easy to care for!  Cost is $45 plus tax. \n\n\nPlease RSVP: https://floralandhardyofskippack.com/events/air-plant-wreath-workshop-ii/
X-ALT-DESC;FMTTYPE=text/html:<div style="text-align: justify\;"><span style="background-color:rgb(252\, 249\, 244)\; color:rgb(0\, 0\, 0)\; font-family:arial\,helvetica\,sans-serif">Join us for this NEW WORKSHOP! Design your own living wreath with cool looking Air Plants!!&nbsp\; We&rsquo\;ll help you create a beautiful living arrangement using a 12-inch grapevine wreath\, moss\, and a variety of colorful Air Plants (tillandsias).&nbsp\; Unique indoor decoration for every season and easy to care for!&nbsp\; Cost is $45 plus tax. </span></div>\n<br />\n<span style="background-color:rgb(252\, 249\, 244)\; color:rgb(0\, 0\, 0)\; font-family:arial\,helvetica\,sans-serif">Please RSVP:&nbsp\;<a href="https://floralandhardyofskippack.com/events/air-plant-wreath-workshop-ii/">https://floralandhardyofskippack.com/events/air-plant-wreath-workshop-ii/</a></span>
LOCATION:Floral & Hardy 4007 Skippack Pike Skippack\, PA 19474
UID:e.2385.10085
SEQUENCE:3
DTSTAMP:20260423T182509Z
URL:https://business.chambergmc.org/events/details/floral-hardy-air-plant-wreath-workshop-ii-10085
END:VEVENT

END:VCALENDAR
