BEGIN:VCALENDAR
VERSION:2.0
PRODID:-//ChamberMaster//Event Calendar 2.0//EN
METHOD:PUBLISH
X-PUBLISHED-TTL:P3D
REFRESH-INTERVAL:P3D
CALSCALE:GREGORIAN
BEGIN:VEVENT
DTSTART:20190710T223000Z
DTEND:20190710T233000Z
X-MICROSOFT-CDO-ALLDAYEVENT:FALSE
SUMMARY:Floral & Hardy All About Hydrangeas
DESCRIPTION:Hydrangeas are beautiful summer blooming shrubs!  Join us for this FREE wine & cheese class and learn how to successfully grow\, prune and select the best hydrangeas in our area.  We'll answer questions about why your hydrangeas aren't blooming.  Find out about the differences in varieties and how to harvest hydrangeas for dried flower arrangements.  Presentation will be given by Penn State Master Gardener\, Susan Doblmaier.  \n\n\nPlease RSVP: https://floralandhardyofskippack.com/events/all-about-hydrangeas/
X-ALT-DESC;FMTTYPE=text/html:<div style="text-align: justify\;"><span style="background-color:transparent\; color:rgb(0\, 0\, 0)\; font-family:arial\,helvetica\,sans-serif\; font-size:13px">Hydrangeas are beautiful summer blooming shrubs!&nbsp\; Join us for this FREE wine &amp\; cheese class and learn how to successfully grow\, prune and select the best hydrangeas in our area.&nbsp\; We&rsquo\;ll answer questions about why your hydrangeas aren&rsquo\;t blooming.&nbsp\; Find out about the differences in varieties and how to harvest hydrangeas for dried flower arrangements.&nbsp\; Presentation will be given by Penn State Master Gardener\, Susan Doblmaier.&nbsp\; </span></div>\n<br />\n<span style="background-color:transparent\; color:rgb(0\, 0\, 0)\; font-family:arial\,helvetica\,sans-serif\; font-size:13px">Please RSVP:&nbsp\;<a href="https://floralandhardyofskippack.com/events/all-about-hydrangeas/">https://floralandhardyofskippack.com/events/all-about-hydrangeas/</a></span>
LOCATION:Floral & Hardy 4007 Skippack Pike Skippack\, PA 19474
UID:e.2385.8804
SEQUENCE:3
DTSTAMP:20260422T141008Z
URL:https://business.chambergmc.org/events/details/floral-hardy-all-about-hydrangeas-07-10-2019-8804
END:VEVENT

END:VCALENDAR
