BEGIN:VCALENDAR
VERSION:2.0
PRODID:-//ChamberMaster//Event Calendar 2.0//EN
METHOD:PUBLISH
X-PUBLISHED-TTL:P3D
REFRESH-INTERVAL:P3D
CALSCALE:GREGORIAN
BEGIN:VEVENT
DTSTART:20180711T223000Z
DTEND:20180711T233000Z
X-MICROSOFT-CDO-ALLDAYEVENT:FALSE
SUMMARY:Floral & Hardy - All About Hydrangeas
DESCRIPTION:Hydrangeas are beautiful summer blooming shrubs.  Join us for this FREE wine & cheese class and learn how to successfully grow\, prune and select the best hydrangeas in our area.  We'll answer questions about why your hydrangeas aren't blooming. Presentation will be given by Penn State Master Gardener\, Susan Doblmaier.\n\n \nPlease RSVP: http://floralandhardyofskippack.com/events/268/all-about-hydrangeas/
X-ALT-DESC;FMTTYPE=text/html:<div style="text-align: justify\;"><span style="background-color:transparent\; color:rgb(0\, 0\, 0)\; font-family:lora\,times new roman\,times\,serif\; font-size:13px">Hydrangeas are beautiful summer blooming shrubs.&nbsp\; Join us for this FREE wine &amp\; cheese class and learn how to successfully grow\, prune and select the best hydrangeas in our area.&nbsp\; We&rsquo\;ll answer questions about why your hydrangeas aren&rsquo\;t blooming. Presentation will be given by Penn State Master Gardener\, Susan Doblmaier.</span><br />\n&nbsp\;</div>\n<span style="background-color:transparent\; color:rgb(0\, 0\, 0)\; font-family:lora\,times new roman\,times\,serif\; font-size:13px">Please RSVP:&nbsp\;<a href="http://floralandhardyofskippack.com/events/268/all-about-hydrangeas/">http://floralandhardyofskippack.com/events/268/all-about-hydrangeas/</a></span>
LOCATION:Floral & Hardy 4007 Skippack Pike Skippack\, PA 19474
UID:e.2385.6681
SEQUENCE:3
DTSTAMP:20260421T214100Z
URL:https://business.chambergmc.org/events/details/floral-hardy-all-about-hydrangeas-6681
END:VEVENT

END:VCALENDAR
