BEGIN:VCALENDAR
VERSION:2.0
PRODID:-//ChamberMaster//Event Calendar 2.0//EN
METHOD:PUBLISH
X-PUBLISHED-TTL:P3D
REFRESH-INTERVAL:P3D
CALSCALE:GREGORIAN
BEGIN:VEVENT
DTSTART:20200111T150000Z
DTEND:20200111T160000Z
X-MICROSOFT-CDO-ALLDAYEVENT:FALSE
SUMMARY:Floral & Hardy Animal Planter Succulent Workshop
DESCRIPTION:Join us at F&H for this fun winter workshop!  Place mini succulents in a cute animal planter.  Add colorful moss and decorative stones to finish off your design. We'll have a variety of animal pots to choose from in different sizes.  Both kids and adults are welcome!  Great family activity!! Cost ranges anywhere from $15 to $35 on the average. \n\n\n\nPlease RSVP:\n\nhttps://floralandhardyofskippack.com/events/animal-planter-succulent-workshop/
X-ALT-DESC;FMTTYPE=text/html:<span style="color:rgb(71\, 71\, 71)\; font-family:arial\,helvetica\,sans-serif\; font-size:14px">Join us at F&amp\;H for this fun winter workshop!&nbsp\; Place mini succulents in a cute animal planter.&nbsp\; Add colorful moss and decorative stones to finish off your design. We&rsquo\;ll have a variety of animal pots to choose from in different sizes.&nbsp\; Both kids and adults are welcome!&nbsp\; Great family activity!! Cost ranges anywhere from $15 to $35 on the average.&nbsp\;<br />\n<br />\nPlease RSVP:<br />\n<a href="https://floralandhardyofskippack.com/events/animal-planter-succulent-workshop/">https://floralandhardyofskippack.com/events/animal-planter-succulent-workshop/</a></span>
LOCATION:Floral & Hardy 4007 Skippack Pike Skippack\, PA 19474
UID:e.2385.10211
SEQUENCE:3
DTSTAMP:20260423T145224Z
URL:https://business.chambergmc.org/events/details/floral-hardy-animal-planter-succulent-workshop-10211
END:VEVENT

END:VCALENDAR
