BEGIN:VCALENDAR
VERSION:2.0
PRODID:-//ChamberMaster//Event Calendar 2.0//EN
METHOD:PUBLISH
X-PUBLISHED-TTL:P3D
REFRESH-INTERVAL:P3D
CALSCALE:GREGORIAN
BEGIN:VEVENT
DTSTART:20180823T223000Z
DTEND:20180823T233000Z
X-MICROSOFT-CDO-ALLDAYEVENT:FALSE
SUMMARY:Floral & Hardy Animal Planter Workshop
DESCRIPTION:Join us for this fun NEW late summer workshop!  Place a mini plant in your choice of a cute animal planter   hedgehog\, turtle\, snail or bird. Add moss and stones to finish off your design. Both kids and adults are welcome. Great "Mommy and me" activity before the kids go back to school! Cost is $20 per planter.\n\n \n\nPlease RSVP: http://floralandhardyofskippack.com/events/285/animal-planter-workshop/
X-ALT-DESC;FMTTYPE=text/html:<div style="text-align: justify\;"><span style="background-color:transparent\; color:rgb(0\, 0\, 0)\; font-family:arial\,helvetica\,sans-serif\; font-size:13px">Join us for this fun NEW late summer workshop!&nbsp\; Place a mini plant in your choice of a cute animal planter &ndash\; hedgehog\, turtle\, snail or bird. Add moss and stones to finish off your design. Both kids and adults are welcome. Great &ldquo\;Mommy and me&rdquo\; activity before the kids go back to school! Cost is $20 per planter.</span><br />\n&nbsp\;</div>\n\n<div><span style="background-color:transparent\; color:rgb(0\, 0\, 0)\; font-family:arial\,helvetica\,sans-serif\; font-size:13px">Please RSVP:&nbsp\;<a href="http://floralandhardyofskippack.com/events/285/animal-planter-workshop/">http://floralandhardyofskippack.com/events/285/animal-planter-workshop/</a></span></div>\n
LOCATION:Floral & Hardy 4007 Skippack Pike Skippack\, PA 19474
UID:e.2385.7859
SEQUENCE:3
DTSTAMP:20260422T002157Z
URL:https://business.chambergmc.org/events/details/floral-hardy-animal-planter-workshop-7859
END:VEVENT

END:VCALENDAR
