BEGIN:VCALENDAR
VERSION:2.0
PRODID:-//ChamberMaster//Event Calendar 2.0//EN
METHOD:PUBLISH
X-PUBLISHED-TTL:P3D
REFRESH-INTERVAL:P3D
CALSCALE:GREGORIAN
BEGIN:VEVENT
DTSTART:20190511T140000Z
DTEND:20190511T150000Z
X-MICROSOFT-CDO-ALLDAYEVENT:FALSE
SUMMARY:Floral & Hardy Annual Container Workshop II
DESCRIPTION:Make your own beautiful container during this fun workshop!  Mix and match a variety of colorful annual plants\, suitable for sun or shade.  We'll help you design your own outdoor masterpiece!  Perfect accent for your front door\, patio or porch.  Cost is $35 or $45 plus tax. Pricing is "a la carte" if you bring your own container. \n\n\nPlease RSVP:\n\nhttp://floralandhardyofskippack.com/events/annual-container-workshop-ii/
X-ALT-DESC;FMTTYPE=text/html:<div style="text-align: justify\;"><span style="background-color:transparent\; color:rgb(0\, 0\, 0)\; font-family:arial\,helvetica\,sans-serif\; font-size:13px">Make your own beautiful container during this fun workshop!&nbsp\; Mix and match a variety of colorful annual plants\, suitable for sun or shade.&nbsp\; We&rsquo\;ll help you design your own outdoor masterpiece!&nbsp\; Perfect accent for your front door\, patio or porch.&nbsp\; Cost is $35 or $45 plus tax. Pricing is &ldquo\;a la carte&rdquo\; if you bring your own container. </span></div>\n<br />\n<span style="background-color:transparent\; color:rgb(0\, 0\, 0)\; font-family:arial\,helvetica\,sans-serif\; font-size:13px">Please RSVP:<br />\n<a href="http://floralandhardyofskippack.com/events/annual-container-workshop-ii/">http://floralandhardyofskippack.com/events/annual-container-workshop-ii/</a></span>
LOCATION:Floral & Hardy 4007 Skippack Pike Skippack\, PA 19474
UID:e.2385.8651
SEQUENCE:3
DTSTAMP:20260422T111846Z
URL:https://business.chambergmc.org/events/details/floral-hardy-annual-container-workshop-ii-8651
END:VEVENT

END:VCALENDAR
