BEGIN:VCALENDAR
VERSION:2.0
PRODID:-//ChamberMaster//Event Calendar 2.0//EN
METHOD:PUBLISH
X-PUBLISHED-TTL:P3D
REFRESH-INTERVAL:P3D
CALSCALE:GREGORIAN
BEGIN:VEVENT
DTSTART:20180512T140000Z
DTEND:20180512T160000Z
X-MICROSOFT-CDO-ALLDAYEVENT:FALSE
SUMMARY:Floral & Hardy - Ask the Perennial Diva
DESCRIPTION:Ask the expert! Perennial Diva\, Stephanie Cohen\, will be available to answer your plant and gardening questions. Stephanie is knowledgeable about a diverse amount of gardening subjects.  She's also a well known author of many gardening-related books and articles.  Remember to bring your questions!\n\n\nPlease RSVP: http://floralandhardyofskippack.com/events/256/ask-the-perennial-diva/
X-ALT-DESC;FMTTYPE=text/html:<div style="text-align: justify\;"><span style="font-size:12px"><span style="background-color:transparent\; color:rgb(0\, 0\, 0)\; font-family:lora\,times new roman\,times\,serif">Ask the expert! Perennial Diva\, Stephanie Cohen\, will be available to answer your plant and gardening questions. Stephanie is knowledgeable about a diverse amount of gardening subjects.&nbsp\; She&rsquo\;s also a well known author of many gardening-related books and articles.&nbsp\; Remember to bring your questions!</span></span></div>\n<br />\n<span style="font-size:12px"><span style="background-color:transparent\; color:rgb(0\, 0\, 0)\; font-family:lora\,times new roman\,times\,serif">Please RSVP:&nbsp\;<a href="http://floralandhardyofskippack.com/events/256/ask-the-perennial-diva/">http://floralandhardyofskippack.com/events/256/ask-the-perennial-diva/</a></span></span>
LOCATION:Floral & Hardy 4007 Skippack Pike Skippack\, PA 19474
UID:e.2385.5315
SEQUENCE:3
DTSTAMP:20260421T202243Z
URL:https://business.chambergmc.org/events/details/floral-hardy-ask-the-perennial-diva-05-12-2018-5315
END:VEVENT

END:VCALENDAR
