BEGIN:VCALENDAR
VERSION:2.0
PRODID:-//ChamberMaster//Event Calendar 2.0//EN
METHOD:PUBLISH
X-PUBLISHED-TTL:P3D
REFRESH-INTERVAL:P3D
CALSCALE:GREGORIAN
BEGIN:VEVENT
DTSTART:20190215T160000Z
DTEND:20190215T230000Z
X-MICROSOFT-CDO-ALLDAYEVENT:FALSE
SUMMARY:Floral & Hardy at Philly Home & Garden Show Feb 15 - Feb 17
DESCRIPTION:Visit our booth at the Philly Home & Garden Show in Oaks\, PA.  Check out our new "Succulent Bar" where you can make your own succulent creation.  Choose from a variety of containers\, succulent plants and toppings.  Great DIY activity for all ages!  We'll also have displays of our home & yard d cor\, gardening supplies\, plants\, and more \n\n\nSee details: http://floralandhardyofskippack.com/events/philly-home-garden-show/
X-ALT-DESC;FMTTYPE=text/html:<div style="text-align:justify"><span style="background-color:transparent\; color:rgb(0\, 0\, 0)\; font-family:arial\,helvetica\,sans-serif\; font-size:13px">Visit our booth at the Philly Home &amp\; Garden Show in Oaks\, PA.&nbsp\; Check out our new &ldquo\;Succulent Bar&rdquo\; where you can make your own succulent creation.&nbsp\; Choose from a variety of containers\, succulent plants and toppings.&nbsp\; Great DIY activity for all ages!&nbsp\; </span><span style="background-color:transparent\; color:rgb(0\, 0\, 0)\; font-family:arial\,helvetica\,sans-serif\; font-size:13px">We&rsquo\;ll also have displays of our home &amp\; yard d&eacute\;cor\, gardening supplies\, plants\, and more&hellip\;</span></div>\n<br />\n<span style="background-color:transparent\; color:rgb(0\, 0\, 0)\; font-family:arial\,helvetica\,sans-serif\; font-size:13px">See details:&nbsp\;<a href="http://floralandhardyofskippack.com/events/philly-home-garden-show/">http://floralandhardyofskippack.com/events/philly-home-garden-show/</a></span>
LOCATION:The Greater Philadelphia Expo Center 100 Station Ave Oaks\, PA 19456
UID:e.2385.8169
SEQUENCE:3
DTSTAMP:20260422T071244Z
URL:https://business.chambergmc.org/events/details/floral-hardy-at-philly-home-garden-show-feb-15-feb-17-8169
END:VEVENT

END:VCALENDAR
