BEGIN:VCALENDAR
VERSION:2.0
PRODID:-//ChamberMaster//Event Calendar 2.0//EN
METHOD:PUBLISH
X-PUBLISHED-TTL:P3D
REFRESH-INTERVAL:P3D
CALSCALE:GREGORIAN
BEGIN:VEVENT
DTSTART:20190203T170000Z
DTEND:20190203T180000Z
X-MICROSOFT-CDO-ALLDAYEVENT:FALSE
SUMMARY:Floral & Hardy Balloon Twisting Workshop for Tweens and Teens
DESCRIPTION:Join us at Floral & Hardy for this NEW Balloon Twisting Workshop!  Have your tweens and teens learn a new skill!!  We'll teach them how to create a dog\, horse\, giraffe\, cat\, lion and a flower during this class.  Practice balloons and pump will be provided.  Cost is $10 plus tax.  Minimum age   10 years old. \n\n \nPlease RSVP: http://floralandhardyofskippack.com/events/balloon-twisting-workshop-for-tweens-and-teens/
X-ALT-DESC;FMTTYPE=text/html:<div style="text-align: justify\;"><span style="background-color:transparent\; color:rgb(0\, 0\, 0)\; font-family:arial\,helvetica\,sans-serif\; font-size:13px">Join us at Floral &amp\; Hardy for this NEW Balloon Twisting Workshop!&nbsp\; Have your tweens and teens learn a new skill!!&nbsp\; We&rsquo\;ll teach them how to create a dog\, horse\, giraffe\, cat\, lion and a flower during this class.&nbsp\; Practice balloons and pump will be provided.&nbsp\; Cost is $10 plus tax.&nbsp\; Minimum age &ndash\; 10 years old. </span><br />\n&nbsp\;</div>\n<span style="background-color:transparent\; color:rgb(0\, 0\, 0)\; font-family:arial\,helvetica\,sans-serif\; font-size:13px">Please RSVP:&nbsp\;<a href="http://floralandhardyofskippack.com/events/balloon-twisting-workshop-for-tweens-and-teens/">http://floralandhardyofskippack.com/events/balloon-twisting-workshop-for-tweens-and-teens/</a></span>
LOCATION:Floral & Hardy 4007 Skippack Pike Skippack\, PA 19474
UID:e.2385.8132
SEQUENCE:3
DTSTAMP:20260422T070912Z
URL:https://business.chambergmc.org/events/details/floral-hardy-balloon-twisting-workshop-for-tweens-and-teens-8132
END:VEVENT

END:VCALENDAR
