BEGIN:VCALENDAR
VERSION:2.0
PRODID:-//ChamberMaster//Event Calendar 2.0//EN
METHOD:PUBLISH
X-PUBLISHED-TTL:P3D
REFRESH-INTERVAL:P3D
CALSCALE:GREGORIAN
BEGIN:VEVENT
DTSTART:20190606T223000Z
DTEND:20190606T233000Z
X-MICROSOFT-CDO-ALLDAYEVENT:FALSE
SUMMARY:Floral & Hardy Butterfly Class & Container Workshop
DESCRIPTION:Join us for this new Butterfly Class & Container Workshop.  Learn how to attract butterflies by creating a backyard habitat!  We'll talk about different plants that support the lifecycle of a butterfly and benefit other pollinators as well.  After the presentation\, you'll be able to make your own container filled with annuals and herbs that attract butterflies.  Examples include annual milkweed\, cosmos\, zinnias\, dill\, fennel and parsley.  Both kids and adults are welcome. Cost is $39 plus tax. \n\n\nPlease RSVP: https://floralandhardyofskippack.com/events/butterfly-class-amp-container-workshop/
X-ALT-DESC;FMTTYPE=text/html:<div style="text-align: justify\;"><span style="background-color:transparent\; color:rgb(0\, 0\, 0)\; font-family:arial\,helvetica\,sans-serif\; font-size:13px">Join us for this new Butterfly Class &amp\; Container Workshop.&nbsp\; Learn how to attract butterflies by creating a backyard habitat!&nbsp\; We&rsquo\;ll talk about different plants that support the lifecycle of a butterfly and benefit other pollinators as well.&nbsp\; After the presentation\, you&rsquo\;ll be able to make your own container filled with annuals and herbs that attract butterflies.&nbsp\; Examples include annual milkweed\, cosmos\, zinnias\, dill\, fennel and parsley.&nbsp\; Both kids and adults are welcome. Cost is $39 plus tax. </span></div>\n<br />\n<span style="background-color:transparent\; color:rgb(0\, 0\, 0)\; font-family:arial\,helvetica\,sans-serif\; font-size:13px">Please RSVP:&nbsp\;<a href="https://floralandhardyofskippack.com/events/butterfly-class-amp-container-workshop/">https://floralandhardyofskippack.com/events/butterfly-class-amp-container-workshop/</a></span>
LOCATION:Floral & Hardy 4007 Skippack Pike Skippack\, PA 19474
UID:e.2385.8704
SEQUENCE:3
DTSTAMP:20260422T140641Z
URL:https://business.chambergmc.org/events/details/floral-hardy-butterfly-class-container-workshop-8704
END:VEVENT

END:VCALENDAR
