BEGIN:VCALENDAR
VERSION:2.0
PRODID:-//ChamberMaster//Event Calendar 2.0//EN
METHOD:PUBLISH
X-PUBLISHED-TTL:P3D
REFRESH-INTERVAL:P3D
CALSCALE:GREGORIAN
BEGIN:VEVENT
DTSTART:20191205T233000Z
DTEND:20191206T003000Z
X-MICROSOFT-CDO-ALLDAYEVENT:FALSE
SUMMARY:Floral & Hardy Christmas Tree Centerpiece Workshop I
DESCRIPTION:Design your own mini Christmas tree!  Perfect indoor decoration for your holiday table!! We'll have everything you'll need to build a festive 2  tabletop tree.  Choose from a variety of fresh greens and seasonal accents.  You can also personalize your centerpiece with ribbons and ornaments (additional cost).  Cost is $49 plus tax.\n\n\nPlease RSVP:\n\nhttps://floralandhardyofskippack.com/events/christmas-tree-centerpiece-workshop-i/
X-ALT-DESC;FMTTYPE=text/html:<div style="text-align: justify\;"><span style="background-color:rgb(252\, 249\, 244)\; color:rgb(0\, 0\, 0)\; font-family:lora\,times new roman\,times\,serif">Design your own mini Christmas tree!&nbsp\; Perfect indoor decoration for your holiday table!! We&rsquo\;ll have everything you&rsquo\;ll need to build a festive 2&prime\; tabletop tree.&nbsp\; Choose from a variety of fresh greens and seasonal accents.&nbsp\; You can also personalize your centerpiece with ribbons and ornaments (additional cost).&nbsp\; Cost is $49 plus tax.</span></div>\n<br />\n<span style="background-color:rgb(252\, 249\, 244)\; color:rgb(0\, 0\, 0)\; font-family:lora\,times new roman\,times\,serif">Please RSVP:<br />\n<a href="https://floralandhardyofskippack.com/events/christmas-tree-centerpiece-workshop-i/">https://floralandhardyofskippack.com/events/christmas-tree-centerpiece-workshop-i/</a></span>
LOCATION:Floral & Hardy 4007 Skippack Pike Skippack\, PA 19474
UID:e.2385.10156
SEQUENCE:3
DTSTAMP:20260423T145225Z
URL:https://business.chambergmc.org/events/details/floral-hardy-christmas-tree-centerpiece-workshop-i-10156
END:VEVENT

END:VCALENDAR
