BEGIN:VCALENDAR
VERSION:2.0
PRODID:-//ChamberMaster//Event Calendar 2.0//EN
METHOD:PUBLISH
X-PUBLISHED-TTL:P3D
REFRESH-INTERVAL:P3D
CALSCALE:GREGORIAN
BEGIN:VEVENT
DTSTART:20191207T190000Z
DTEND:20191207T200000Z
X-MICROSOFT-CDO-ALLDAYEVENT:FALSE
SUMMARY:Floral & Hardy Christmas Tree Centerpiece Workshop III
DESCRIPTION:Design your own mini Christmas tree! Perfect indoor decoration for your holiday table!! We'll have everything you'll need to build a festive 2  tabletop tree.  Choose from a variety of fresh greens and seasonal accents.  You can also personalize your centerpiece with ribbons and ornaments (additional fee).  Cost is $49 plus tax. \n\n\nPlease RSVP: \n\nhttps://floralandhardyofskippack.com/events/christmas-tree-centerpiece-workshop-iii/
X-ALT-DESC;FMTTYPE=text/html:<div style="text-align: justify\;"><span style="color:rgb(71\, 71\, 71)\; font-family:arial\,helvetica\,sans-serif\; font-size:14px">Design your own mini Christmas tree! Perfect indoor decoration for your holiday table!! We&rsquo\;ll have everything you&rsquo\;ll need to build a festive 2&prime\; tabletop tree.&nbsp\; Choose from a variety of fresh greens and seasonal accents.&nbsp\; You can also personalize your centerpiece with ribbons and ornaments (additional fee).&nbsp\; Cost is $49 plus tax. </span></div>\n<br />\n<span style="color:rgb(71\, 71\, 71)\; font-family:arial\,helvetica\,sans-serif\; font-size:14px">Please RSVP:&nbsp\;<br />\n<a href="https://floralandhardyofskippack.com/events/christmas-tree-centerpiece-workshop-iii/">https://floralandhardyofskippack.com/events/christmas-tree-centerpiece-workshop-iii/</a></span><br />\n&nbsp\;
LOCATION:Floral & Hardy 4007 Skippack Pike Skippack\, PA 19474
UID:e.2385.10186
SEQUENCE:3
DTSTAMP:20260423T145028Z
URL:https://business.chambergmc.org/events/details/floral-hardy-christmas-tree-centerpiece-workshop-iii-10186
END:VEVENT

END:VCALENDAR
