BEGIN:VCALENDAR
VERSION:2.0
PRODID:-//ChamberMaster//Event Calendar 2.0//EN
METHOD:PUBLISH
X-PUBLISHED-TTL:P3D
REFRESH-INTERVAL:P3D
CALSCALE:GREGORIAN
BEGIN:VEVENT
DTSTART:20180606T223000Z
DTEND:20180606T233000Z
X-MICROSOFT-CDO-ALLDAYEVENT:FALSE
SUMMARY:Floral & Hardy - Colorful Shade Gardening
DESCRIPTION:Join us for this this FREE wine & cheese class to learn about plants that thrive in the shade.  We'll talk about how you can add color to your shady garden areas.  Don't forget to bring your questions!  Presentation will be given by Penn State Master Gardener\, Mary McKnight.\n\nPlease RSVP: http://floralandhardyofskippack.com/events/253/colorful-shade-gardening/
X-ALT-DESC;FMTTYPE=text/html:<p style="text-align:justify"><span style="font-size:12px"><span style="font-family:arial\,helvetica\,sans-serif"><span style="background-color:transparent\; color:rgb(0\, 0\, 0)">Join us&nbsp\;for this&nbsp\;this FREE wine &amp\; cheese class to learn about plants that thrive in the shade.&nbsp\; We&rsquo\;ll talk about how you can add color to your shady garden areas.&nbsp\; Don&rsquo\;t forget to bring your questions!&nbsp\; Presentation will be given by Penn State Master Gardener\, Mary McKnight.</span></span></span></p>\n\n<p><span style="font-size:12px"><span style="background-color:transparent\; color:rgb(0\, 0\, 0)\; font-family:lora\,times new roman\,times\,serif"><span style="font-family:arial\,helvetica\,sans-serif">Please RSVP:&nbsp\;</span><a href="http://floralandhardyofskippack.com/events/253/colorful-shade-gardening/">http://floralandhardyofskippack.com/events/253/colorful-shade-gardening/</a></span></span></p>\n
LOCATION:Floral & Hardy 4007 Skippack Pike Skippack\, PA 19474
UID:e.2385.5310
SEQUENCE:3
DTSTAMP:20260421T202330Z
URL:https://business.chambergmc.org/events/details/floral-hardy-colorful-shade-gardening-06-06-2018-5310
END:VEVENT

END:VCALENDAR
