BEGIN:VCALENDAR
VERSION:2.0
PRODID:-//ChamberMaster//Event Calendar 2.0//EN
METHOD:PUBLISH
X-PUBLISHED-TTL:P3D
REFRESH-INTERVAL:P3D
CALSCALE:GREGORIAN
BEGIN:VEVENT
DTSTART:20190529T223000Z
DTEND:20190529T233000Z
X-MICROSOFT-CDO-ALLDAYEVENT:FALSE
SUMMARY:Floral & Hardy Colorful Shade Gardening
DESCRIPTION:Join us for this this free wine & cheese class to learn about plants that thrive in the shade.  We'll talk about how you can add color and variety to your shady garden areas.  Bring your questions!  Presentation will be given by Penn State Master Gardener\, Mary McKnight. \n\n\n\nPlease RSVP: http://floralandhardyofskippack.com/events/colorful-shade-gardening/
X-ALT-DESC;FMTTYPE=text/html:<div style="text-align:justify"><span style="background-color:transparent\; color:rgb(0\, 0\, 0)\; font-family:arial\,helvetica\,sans-serif\; font-size:13px">Join us&nbsp\;for this&nbsp\;this free wine &amp\; cheese class to learn about plants that thrive in the shade.&nbsp\; We&rsquo\;ll talk about how you can add color and variety to your shady garden areas.&nbsp\; Bring your questions!&nbsp\; Presentation will be given by Penn State Master Gardener\, Mary McKnight.&nbsp\;</span></div>\n\n<div><br />\n<span style="background-color:transparent\; color:rgb(0\, 0\, 0)\; font-family:arial\,helvetica\,sans-serif\; font-size:13px">Please RSVP:&nbsp\;<a href="http://floralandhardyofskippack.com/events/colorful-shade-gardening/">http://floralandhardyofskippack.com/events/colorful-shade-gardening/</a></span></div>\n
LOCATION:Floral & Hardy 4007 Skippack Pike Skippack\, PA 19474
UID:e.2385.8661
SEQUENCE:3
DTSTAMP:20260422T112220Z
URL:https://business.chambergmc.org/events/details/floral-hardy-colorful-shade-gardening-8661
END:VEVENT

END:VCALENDAR
