BEGIN:VCALENDAR
VERSION:2.0
PRODID:-//ChamberMaster//Event Calendar 2.0//EN
METHOD:PUBLISH
X-PUBLISHED-TTL:P3D
REFRESH-INTERVAL:P3D
CALSCALE:GREGORIAN
BEGIN:VEVENT
DTSTART:20180411T223000Z
DTEND:20180411T233000Z
X-MICROSOFT-CDO-ALLDAYEVENT:FALSE
SUMMARY:Floral & Hardy - Composting Basics
DESCRIPTION:Jump on the backyard composting bandwagon at this FREE wine & cheese event!  Come learn how to take your yard waste and leaves\, combine them with grass clippings and kitchen waste\, and turn it into 'black gold' for your gardens. It's easy and fun!  Presentation will be given by Penn State Master Gardener\, Karrie Hontz.\n\n\nPlease RSVP:http://floralandhardyofskippack.com/events/222/composting-basics/
X-ALT-DESC;FMTTYPE=text/html:<div style="text-align:justify"><span style="background-color:transparent\; color:rgb(0\, 0\, 0)\; font-family:lora\,times new roman\,times\,serif\; font-size:13px">Jump on the backyard composting bandwagon at this FREE wine &amp\; cheese event! &nbsp\;Come learn how to take your yard waste and leaves\, combine them with grass clippings and kitchen waste\, and turn it into &lsquo\;black gold&rsquo\; for your gardens. It&rsquo\;s easy and fun!&nbsp\; Presentation will be given by Penn State Master Gardener\, Karrie Hontz.</span></div>\n<br />\n<span style="background-color:transparent\; color:rgb(0\, 0\, 0)\; font-family:lora\,times new roman\,times\,serif\; font-size:13px">Please RSVP:<a href="http://floralandhardyofskippack.com/events/222/composting-basics/">http://floralandhardyofskippack.com/events/222/composting-basics/</a></span>
LOCATION:Floral & Hardy 4007 Skippack Pike Skippack\, PA 19474
UID:e.2385.3048
SEQUENCE:3
DTSTAMP:20260421T174507Z
URL:https://business.chambergmc.org/events/details/floral-hardy-composting-basics-04-11-2018-3048
END:VEVENT

END:VCALENDAR
