BEGIN:VCALENDAR
VERSION:2.0
PRODID:-//ChamberMaster//Event Calendar 2.0//EN
METHOD:PUBLISH
X-PUBLISHED-TTL:P3D
REFRESH-INTERVAL:P3D
CALSCALE:GREGORIAN
BEGIN:VEVENT
DTSTART:20180527T130000Z
DTEND:20180527T210000Z
X-MICROSOFT-CDO-ALLDAYEVENT:FALSE
SUMMARY:Floral & Hardy Dog Day
DESCRIPTION:It's time to bark again at F&H!  This day is for all of you dog lovers. Bring your mutts and save some dough.  Well behaved dogs turn into coupons (one per person).  \n\nThere's no need to RSVP.  Just show up and let your dog sniff and socialize.
X-ALT-DESC;FMTTYPE=text/html:<p style="margin-left:0px\; margin-right:0px\; text-align:justify">It&rsquo\;s time to bark again at F&amp\;H!&nbsp\;&nbsp\;This day is for all of you dog lovers.&nbsp\;Bring your mutts and save some dough.&nbsp\;&nbsp\;Well behaved dogs turn into coupons (one per person).&nbsp\;&nbsp\;</p>\n\n<p style="margin-left:0px\; margin-right:0px\; text-align:left">There&rsquo\;s no need to RSVP.&nbsp\; Just show up and let your dog sniff and socialize.</p>\n
LOCATION:Floral & Hardy 4007 Skippack Pike Skippack\, PA 19474
UID:e.2385.4284
SEQUENCE:3
DTSTAMP:20260421T202059Z
URL:https://business.chambergmc.org/events/details/floral-hardy-dog-day-05-27-2018-4284
END:VEVENT

END:VCALENDAR
