BEGIN:VCALENDAR
VERSION:2.0
PRODID:-//ChamberMaster//Event Calendar 2.0//EN
METHOD:PUBLISH
X-PUBLISHED-TTL:P3D
REFRESH-INTERVAL:P3D
CALSCALE:GREGORIAN
BEGIN:VEVENT
DTSTART:20190526T140000Z
DTEND:20190526T160000Z
X-MICROSOFT-CDO-ALLDAYEVENT:FALSE
SUMMARY:Floral & Hardy Dog Day with Home at Last Dog Rescue
DESCRIPTION:Attention all dog lovers!! It's Dog Day at Floral & Hardy again!  Home at Last Dog Rescue will be joining us.  Meet some of their adoptable dogs in the F&H parking area from 10 a.m. to 12  p.m.  We will donate a portion of our sales to Home at Last as part of our ongoing animal rescue cause   Floral & Hardy Cares. Please come out and help support our canine friends!\n\nBring your own dog anytime from 9:00 a.m. to 5:00 p.m. to visit.  All well behaved dogs turn into coupons (one person).  There's no need to RSVP.  Just show up and let your dog sniff and socialize.
X-ALT-DESC;FMTTYPE=text/html:<p style="margin-left:0px\; margin-right:0px\; text-align:justify">Attention all dog lovers!! It&rsquo\;s Dog Day at Floral &amp\; Hardy again!&nbsp\; Home at Last Dog Rescue will be joining us.&nbsp\; Meet some of their adoptable dogs in the F&amp\;H parking area from 10 a.m. to 12&nbsp\; p.m.&nbsp\; We will donate a portion of our sales to Home at Last as part of our ongoing animal rescue cause &ndash\; Floral &amp\; Hardy Cares. Please come out and help support our canine friends!</p>\n\n<p style="margin-left:0px\; margin-right:0px\; text-align:left">Bring your own dog anytime from 9:00 a.m. to 5:00 p.m. to visit.&nbsp\; All well behaved dogs turn into coupons (one person).&nbsp\; There&rsquo\;s no need to RSVP.&nbsp\; Just show up and let your dog sniff and socialize.</p>\n
LOCATION:Floral & Hardy 4007 Skippack Pike Skippack\, PA 19474
UID:e.2385.8685
SEQUENCE:3
DTSTAMP:20260422T112347Z
URL:https://business.chambergmc.org/events/details/floral-hardy-dog-day-with-home-at-last-dog-rescue-8685
END:VEVENT

END:VCALENDAR
