BEGIN:VCALENDAR
VERSION:2.0
PRODID:-//ChamberMaster//Event Calendar 2.0//EN
METHOD:PUBLISH
X-PUBLISHED-TTL:P3D
REFRESH-INTERVAL:P3D
CALSCALE:GREGORIAN
BEGIN:VEVENT
DTSTART:20180331T140000Z
DTEND:20180331T150000Z
X-MICROSOFT-CDO-ALLDAYEVENT:FALSE
SUMMARY:Floral & Hardy Easter Egg Hunt I – Younger Kids
DESCRIPTION:Free Easter Egg Hunt for kids up to 5 years old. Bring the kids to our yard and let them loose in search of Easter eggs. Find the golden ticket and win a prize!  Call us for details and with your questions.  \n\n\n\nPlease RSVP: http://floralandhardyofskippack.com/events/218/easter-egg-hunt-i- -younger-kids/
X-ALT-DESC;FMTTYPE=text/html:<div style="text-align:justify"><span style="background-color:transparent\; color:rgb(0\, 0\, 0)\; font-family:lora\,times new roman\,times\,serif\; font-size:13px">Free Easter Egg Hunt for kids up to 5 years old. Bring the kids to our yard and let them loose in search of Easter eggs. Find the golden ticket and win a prize!&nbsp\; Call us for details and with your questions.&nbsp\;&nbsp\;<br />\n<br />\nPlease RSVP:&nbsp\;<a href="http://floralandhardyofskippack.com/events/218/easter-egg-hunt-i-?-younger-kids/">http://floralandhardyofskippack.com/events/218/easter-egg-hunt-i-&ndash\;-younger-kids/</a></span></div>\n
LOCATION:Floral & Hardy 4007 Skippack Pike Skippack\, PA 19474
UID:e.2385.3044
SEQUENCE:3
DTSTAMP:20260421T164024Z
URL:https://business.chambergmc.org/events/details/floral-hardy-easter-egg-hunt-i-younger-kids-03-31-2018-3044
END:VEVENT

END:VCALENDAR
