BEGIN:VCALENDAR
VERSION:2.0
PRODID:-//ChamberMaster//Event Calendar 2.0//EN
METHOD:PUBLISH
X-PUBLISHED-TTL:P3D
REFRESH-INTERVAL:P3D
CALSCALE:GREGORIAN
BEGIN:VEVENT
DTSTART:20190420T140000Z
DTEND:20190420T150000Z
X-MICROSOFT-CDO-ALLDAYEVENT:FALSE
SUMMARY:Floral & Hardy Easter Egg Hunt – Younger Kids
DESCRIPTION:FREE Easter Egg Hunt for kids ages 5 and under!! Join us at Floral & Hardy for this fun annual spring event. Bring the kids to our yard and let them loose in search of Easter eggs filled with candy. They'll also have a chance to find a golden ticket and win a prize! We'll pick winners for first\, second and third prizes!!  "Rufflez the Clown" will entertain the kids as they wait for the gates to open. \n\n\nPlease RSVP: \n\nhttp://floralandhardyofskippack.com/events/easter-egg-hunt-younger-kids/
X-ALT-DESC;FMTTYPE=text/html:<div style="text-align: justify\;"><span style="background-color:transparent\; color:rgb(0\, 0\, 0)\; font-family:arial\,helvetica\,sans-serif\; font-size:13px">FREE Easter Egg Hunt for kids ages 5 and under!! Join us at Floral &amp\; Hardy for this fun annual spring event. Bring the kids to our yard and let them loose in search of Easter eggs filled with candy. They&rsquo\;ll also have a chance to find a golden ticket and win a prize! We&rsquo\;ll pick winners for first\, second and third prizes!!&nbsp\; &ldquo\;Rufflez the Clown&rdquo\; will entertain the kids as they wait for the gates to open. </span></div>\n<br />\n<span style="background-color:transparent\; color:rgb(0\, 0\, 0)\; font-family:arial\,helvetica\,sans-serif\; font-size:13px">Please RSVP:&nbsp\;<br />\n<a href="http://floralandhardyofskippack.com/events/easter-egg-hunt-younger-kids/">http://floralandhardyofskippack.com/events/easter-egg-hunt-younger-kids/</a></span>
LOCATION:Floral & Hardy 4007 Skippack Pike Skippack\, PA 19474
UID:e.2385.8638
SEQUENCE:3
DTSTAMP:20260422T094655Z
URL:https://business.chambergmc.org/events/details/floral-hardy-easter-egg-hunt-younger-kids-8638
END:VEVENT

END:VCALENDAR
