BEGIN:VCALENDAR
VERSION:2.0
PRODID:-//ChamberMaster//Event Calendar 2.0//EN
METHOD:PUBLISH
X-PUBLISHED-TTL:P3D
REFRESH-INTERVAL:P3D
CALSCALE:GREGORIAN
BEGIN:VEVENT
DTSTART:20180324T140000Z
DTEND:20180324T150000Z
X-MICROSOFT-CDO-ALLDAYEVENT:FALSE
SUMMARY:Floral & Hardy Easter Succulent Centerpiece Workshop
DESCRIPTION:Join us for this NEW Spring Fling workshop and make your own Easter Centerpiece!  We'll help you pot a flowering spring plant and mini succulents in a decorative container.   Finish off your design with colored moss and festive mini items.  We'll supply everything that you'll need   plants\, soil mix\, sand\, container and fun accents. Cost is $45.\n\nPlease RSVP: http://floralandhardyofskippack.com/events/236/easter-succulent-centerpiece-workshop/
X-ALT-DESC;FMTTYPE=text/html:<div style="text-align:justify"><span style="background-color:transparent\; color:rgb(0\, 0\, 0)\; font-family:lora\,times new roman\,times\,serif\; font-size:13px">Join us for this NEW Spring Fling workshop and make your own Easter Centerpiece!&nbsp\; We&rsquo\;ll help you pot a flowering spring plant and mini succulents in a decorative container. &nbsp\; Finish off your design with colored moss and festive mini items.&nbsp\; We&rsquo\;ll supply everything that you&rsquo\;ll need &ndash\; plants\, soil mix\, sand\, container and fun accents. Cost is $45.</span></div>\n\n<div><span style="background-color:transparent\; color:rgb(0\, 0\, 0)\; font-family:lora\,times new roman\,times\,serif\; font-size:13px">Please RSVP:&nbsp\;<a href="http://floralandhardyofskippack.com/events/236/easter-succulent-centerpiece-workshop/">http://floralandhardyofskippack.com/events/236/easter-succulent-centerpiece-workshop/</a></span></div>\n
LOCATION:Floral & Hardy 4007 Skippack Pike Skippack\, PA 19474
UID:e.2385.3056
SEQUENCE:3
DTSTAMP:20260421T174656Z
URL:https://business.chambergmc.org/events/details/floral-hardy-easter-succulent-centerpiece-workshop-03-24-2018-3056
END:VEVENT

END:VCALENDAR
