BEGIN:VCALENDAR
VERSION:2.0
PRODID:-//ChamberMaster//Event Calendar 2.0//EN
METHOD:PUBLISH
X-PUBLISHED-TTL:P3D
REFRESH-INTERVAL:P3D
CALSCALE:GREGORIAN
BEGIN:VEVENT
DTSTART:20190508T223000Z
DTEND:20190508T233000Z
X-MICROSOFT-CDO-ALLDAYEVENT:FALSE
SUMMARY:Floral & Hardy Easy to Grow Roses
DESCRIPTION:Join us for this FREE wine & cheese class where you'll learn all about easy to grow roses.  We'll share tips about how to take a practical approach to their selection and care.  Learn about the different types of roses and the best choice for your garden or patio.  Presentation will be given by Penn State Master Gardener\, Mary McKnight.  \n\n \nPlease RSVP:\n\nhttp://floralandhardyofskippack.com/events/easy-to-grow-roses/
X-ALT-DESC;FMTTYPE=text/html:<div style="text-align: justify\;"><span style="background-color:transparent\; color:rgb(0\, 0\, 0)\; font-family:arial\,helvetica\,sans-serif\; font-size:13px">Join us for this FREE wine &amp\; cheese class where you&rsquo\;ll learn all about easy to grow roses.&nbsp\; We&rsquo\;ll&nbsp\;share tips about how to take&nbsp\;a practical approach to their selection and care.&nbsp\; Learn about the different types of roses and the best choice for your garden or patio.&nbsp\; Presentation will be given by Penn State Master Gardener\, Mary McKnight.&nbsp\; </span><br />\n&nbsp\;</div>\n<span style="background-color:transparent\; color:rgb(0\, 0\, 0)\; font-family:arial\,helvetica\,sans-serif\; font-size:13px">Please RSVP:<br />\n<a href="http://floralandhardyofskippack.com/events/easy-to-grow-roses/">http://floralandhardyofskippack.com/events/easy-to-grow-roses/</a></span>
LOCATION:Floral & Hardy 4007 Skippack Pike Skippack\, PA 19474
UID:e.2385.8635
SEQUENCE:3
DTSTAMP:20260422T112103Z
URL:https://business.chambergmc.org/events/details/floral-hardy-easy-to-grow-roses-8635
END:VEVENT

END:VCALENDAR
