BEGIN:VCALENDAR
VERSION:2.0
PRODID:-//ChamberMaster//Event Calendar 2.0//EN
METHOD:PUBLISH
X-PUBLISHED-TTL:P3D
REFRESH-INTERVAL:P3D
CALSCALE:GREGORIAN
BEGIN:VEVENT
DTSTART:20190912T223000Z
DTEND:20190912T233000Z
X-MICROSOFT-CDO-ALLDAYEVENT:FALSE
SUMMARY:Floral & Hardy Fall Container Workshop I
DESCRIPTION:Create your own colorful seasonal display during this fun workshop!  We'll help you design a fall container using a variety of plants including\, mums\, asters\, celosia\, peppers\, grasses\, etc.  Add mini pumpkins and fall decorations for a festive look.  We'll supply the plants\, soil medium and container.  Cost is $49 plus tax.  Additional decorations are extra.  Pricing is   la carte if you bring your own container. \n\n\nPlease RSVP: https://floralandhardyofskippack.com/events/fall-container-workshop-i/
X-ALT-DESC;FMTTYPE=text/html:<div style="text-align: justify\;"><span style="background-color:rgb(252\, 249\, 244)\; color:rgb(0\, 0\, 0)\; font-family:arial\,helvetica\,sans-serif">Create your own colorful seasonal display during this fun workshop!&nbsp\; We&rsquo\;ll help you design a fall container using a variety of plants including\, mums\, asters\, celosia\, peppers\, grasses\, etc.&nbsp\; Add mini pumpkins and fall decorations for a festive look.&nbsp\; We&rsquo\;ll supply the plants\, soil medium and container.&nbsp\; Cost is $49 plus tax.&nbsp\; Additional decorations are extra.&nbsp\; Pricing is &agrave\; la carte if you bring your own container. </span></div>\n<br />\n<span style="background-color:rgb(252\, 249\, 244)\; color:rgb(0\, 0\, 0)\; font-family:arial\,helvetica\,sans-serif">Please RSVP:&nbsp\;<a href="https://floralandhardyofskippack.com/events/fall-container-workshop-i/">https://floralandhardyofskippack.com/events/fall-container-workshop-i/</a></span>
LOCATION:Floral & Hardy 4007 Skippack Pike Skippack\, PA 19474
UID:e.2385.10040
SEQUENCE:3
DTSTAMP:20260423T182109Z
URL:https://business.chambergmc.org/events/details/floral-hardy-fall-container-workshop-i-10040
END:VEVENT

END:VCALENDAR
